BEGIN:VCALENDAR
VERSION:2.0
PRODID:-//KEITARO HARADA - ECPv6.15.20//NONSGML v1.0//EN
CALSCALE:GREGORIAN
METHOD:PUBLISH
X-WR-CALNAME:KEITARO HARADA
X-ORIGINAL-URL:https://kharada.com
X-WR-CALDESC:Events for KEITARO HARADA
REFRESH-INTERVAL;VALUE=DURATION:PT1H
X-Robots-Tag:noindex
X-PUBLISHED-TTL:PT1H
BEGIN:VTIMEZONE
TZID:UTC
BEGIN:STANDARD
TZOFFSETFROM:+0000
TZOFFSETTO:+0000
TZNAME:UTC
DTSTART:20240101T000000
END:STANDARD
END:VTIMEZONE
BEGIN:VEVENT
DTSTART;TZID=UTC:20250131T000000
DTEND;TZID=UTC:20250131T235959
DTSTAMP:20260422T145044
CREATED:20241027T234647Z
LAST-MODIFIED:20241027T234759Z
UID:1470-1738281600-1738367999@kharada.com
SUMMARY:NHK-FM
DESCRIPTION:マエストロ慶太楼の長電話
URL:https://kharada.com/schedule/250131/
ATTACH;FMTTYPE=image/png:https://kharada.com/wp-content/uploads/2024/10/NHK-FM-マエストロ慶太楼の長電話.png
END:VEVENT
BEGIN:VEVENT
DTSTART;TZID=UTC:20250208T000000
DTEND;TZID=UTC:20250208T235959
DTSTAMP:20260422T145044
CREATED:20250201T121227Z
LAST-MODIFIED:20250201T121228Z
UID:1550-1738972800-1739059199@kharada.com
SUMMARY:YOMIURI NIPPON SYMPHONY ORCHESTRA
DESCRIPTION:Closed Concert
URL:https://kharada.com/schedule/yomiuri-nippon-symphony-orchestra/
ATTACH;FMTTYPE=image/jpeg:https://kharada.com/wp-content/uploads/2024/05/©kumiko-suzuki-KH3b-e1717061190931.jpg
END:VEVENT
BEGIN:VEVENT
DTSTART;TZID=UTC:20250211T000000
DTEND;TZID=UTC:20250211T235959
DTSTAMP:20260422T145044
CREATED:20241024T130617Z
LAST-MODIFIED:20241024T130822Z
UID:1448-1739232000-1739318399@kharada.com
SUMMARY:TOKYO SYMPHONY ORCHESTRA
DESCRIPTION:小さなお子様から大人の方々まで、オーケストラ公演は初めての方も、慣れている方も、全ての世代がご家族そろって楽しみながら、知っているようで知らない「オーケストラってなぁに？」という疑問をエンターテインメントとして舞台上で紐解きます。楽曲解説はわかりやすく、またオーケストラの中の楽器の役割、指揮者の役割などの説明や、指揮者体験などの参加コーナーを通して理解を深め、さらに復習の意味をこめて本物の演奏にその場で触れることで、オーケストラの面白さ、醍醐味を味わっていただく絶好の機会です。指揮：原田慶太楼管弦楽：東京交響楽団ナビゲーター：乙葉ロッシーニ：　「ウィリアムテル」序曲より フィナーレ小田実結子 編曲：　ディズニー映画『リトル・マーメイド』から「アンダー・ザ・シー」小室昌広 編曲：　ディズニーのメロディによる管弦楽入門ルロイ・アンダーソン：　シンコペーテッド・クロック　　　　　　　　　　タイプライター　　　　　　　　　　サンドペーパー・バレエ　　　　　　　　　　トランペット吹きの休日J.ウィリアムズ：　スターウォーズより「帝国のマーチ」チャイコフスキー：　くるみ割り人形より　花のワルツ外山雄三：　管弦楽のラプソディー（抜粋）ベートーヴェン：　交響曲第5番「運命」より 第1楽章エルガー：　行進曲「威風堂々」
URL:https://kharada.com/schedule/250211/
LOCATION:Nagano City Arts Center\, Nagano\, Japan
ATTACH;FMTTYPE=image/jpeg:https://kharada.com/wp-content/uploads/2024/10/250211-e1729775134634.jpg
END:VEVENT
BEGIN:VEVENT
DTSTART;TZID=UTC:20250222T000000
DTEND;TZID=UTC:20250222T235959
DTSTAMP:20260422T145044
CREATED:20240427T184918Z
LAST-MODIFIED:20241030T094708Z
UID:1244-1740182400-1740268799@kharada.com
SUMMARY:TOKYO SYMPHONY ORCHESTRA
DESCRIPTION:BEETHOVEN Violin ConcertoTCHAIKOVSKY Symphony No. 5–RINO YOSHIMOTO violin \n\n\n\n \n\n\n\n名曲全集 第204回 \n\n\n\nベートーヴェン：ヴァイオリン協奏曲 ニ長調 op.61チャイコフスキー：交響曲 第5番 ホ短調 op.64ヴァイオリン：吉本梨乃
URL:https://kharada.com/schedule/250222/
LOCATION:MUZA Kawasaki Symphony Hall ミューザ川崎シンフォニーホール\, 1310 Omiyacho\, Saiwai Ward\, Kawasaki\, Kanagawa\, 212-8557\, Japan
ATTACH;FMTTYPE=image/jpeg:https://kharada.com/wp-content/uploads/2024/04/2502-TSO.jpg
END:VEVENT
BEGIN:VEVENT
DTSTART;TZID=UTC:20250228T000000
DTEND;TZID=UTC:20250228T235959
DTSTAMP:20260422T145044
CREATED:20241027T234743Z
LAST-MODIFIED:20241027T234744Z
UID:1472-1740700800-1740787199@kharada.com
SUMMARY:NHK-FM
DESCRIPTION:マエストロ慶太楼の長電話
URL:https://kharada.com/schedule/250228/
ATTACH;FMTTYPE=image/png:https://kharada.com/wp-content/uploads/2024/10/NHK-FM-マエストロ慶太楼の長電話.png
END:VEVENT
BEGIN:VEVENT
DTSTART;TZID=UTC:20250307T000000
DTEND;TZID=UTC:20250307T235959
DTSTAMP:20260422T145044
CREATED:20240403T035551Z
LAST-MODIFIED:20240530T104651Z
UID:1149-1741305600-1741391999@kharada.com
SUMMARY:SAVANNAH PHILHARMONIC
DESCRIPTION:JEANA MELILLI fluteJACOB FUHRMAN harpsichordSUSAN CONANT recorder \n\n\n\n \n\n\n\nBACH Overture & Badinerie from Orchestral Suite No. 2BACH Brandenburg Concerto No. 3TELEMANN Concerto for Recorder & Flute in E minorBACH Air from Orchestral Suite No. 3BACH Brandenburg Concerto No. 5
URL:https://kharada.com/schedule/250307/
LOCATION:Independent Presbyterian Church\, 207 Bull Street\, Savannah\, Georgia\, United States
ATTACH;FMTTYPE=image/jpeg:https://kharada.com/wp-content/uploads/2024/04/Jeani-Mellili.jpeg
END:VEVENT
BEGIN:VEVENT
DTSTART;TZID=UTC:20250308T000000
DTEND;TZID=UTC:20250308T235959
DTSTAMP:20260422T145044
CREATED:20240530T104618Z
LAST-MODIFIED:20240530T104704Z
UID:1317-1741392000-1741478399@kharada.com
SUMMARY:SAVANNAH PHILHARMONIC
DESCRIPTION:JEANA MELILLI fluteJACOB FUHRMAN harpsichordSUSAN CONANT recorder \n\n\n\n \n\n\n\nBACH Overture & Badinerie from Orchestral Suite No. 2BACH Brandenburg Concerto No. 3TELEMANN Concerto for Recorder & Flute in E minorBACH Air from Orchestral Suite No. 3BACH Brandenburg Concerto No. 5
URL:https://kharada.com/schedule/250308/
LOCATION:Independent Presbyterian Church\, 207 Bull Street\, Savannah\, Georgia\, United States
ATTACH;FMTTYPE=image/jpeg:https://kharada.com/wp-content/uploads/2024/04/Jeani-Mellili.jpeg
END:VEVENT
BEGIN:VEVENT
DTSTART;TZID=UTC:20250314T000000
DTEND;TZID=UTC:20250314T235959
DTSTAMP:20260422T145044
CREATED:20250206T212809Z
LAST-MODIFIED:20250206T213126Z
UID:1566-1741910400-1741996799@kharada.com
SUMMARY:SEONGNAM PHILHARMONIC ORCHESTRA
DESCRIPTION:KEITARO HARADA conductorSAMUEL BARON-MOUSSEAU clarinetYUBIN AHN clarinetVERDI La forza del destino OvertureWEBER Clarinet Concerto No. 1WEBER Clarinet Concerto No. 2STRAVINSKY The Firebird (1919)
URL:https://kharada.com/schedule/250314/
LOCATION:Seongnam Arts Center Concert Hal 성남아트센터\, 757 Yatap-dong\, Bundang-gu\, Seongnam-si\, Gyeonggi-do\, South Korea\, Korea\, Republic of
ATTACH;FMTTYPE=image/jpeg:https://kharada.com/wp-content/uploads/2025/02/IMG-20250207-WA0006-e1738876478708.jpg
END:VEVENT
BEGIN:VEVENT
DTSTART;TZID=UTC:20250320T000000
DTEND;TZID=UTC:20250320T235959
DTSTAMP:20260422T145044
CREATED:20240427T185229Z
LAST-MODIFIED:20241109T223221Z
UID:1247-1742428800-1742515199@kharada.com
SUMMARY:OSAKA SYMPHONY ORCHESTRA
DESCRIPTION:原田慶太楼 神野美伽 大阪交響楽団「交響×祭」2025/03/20　音楽イベント \n\n\n\n開演14:00（開場13:15）大ホール【全席指定】 \n\n\n\nクラシック音楽と聞くと「敷居が高い」「堅苦しい」そんなイメージはありませんか？オーケストラと貝塚市観光大使の神野美伽さんや地元のバレエ団が共演し音楽や踊り歌をお届けします。お祭りの様に楽しくて行きやすい気軽なコンサートです。ジャンルに関係なく生の音楽を生のオーケストラでお楽しみください。 \n\n\n\n■ 曲目エルガー：行進曲「威風堂々」第１番、チャイコフスキー：バレエ「くるみ割り人形」「眠れる森の美女」より、天空の城ラピュタより「君をのせて」ほか
URL:https://kharada.com/schedule/250320/
LOCATION:Cosmos Theatre (貝塚市民文化会館(コスモスシアター)\, 1 Chome-18-1 Hatakenaka\, Kaizuka\, Osaka\, Japan
ATTACH;FMTTYPE=image/png:https://kharada.com/wp-content/uploads/2024/04/Screen-Shot-2024-11-10-at-7.29.29-AM-e1731191395601.png
END:VEVENT
BEGIN:VEVENT
DTSTART;TZID=UTC:20250322T000000
DTEND;TZID=UTC:20250322T235959
DTSTAMP:20260422T145044
CREATED:20240530T104823Z
LAST-MODIFIED:20241111T114716Z
UID:1320-1742601600-1742687999@kharada.com
SUMMARY:TOKYO SYMPHONY ORCHESTRA
DESCRIPTION:2025年03月22日(土) \n\n\n\n17:00 開演 \n\n\n\nかわさきシンフォニー・ポップス　Songs and Dances \n\n\n\n指揮：原田慶太楼ヴォーカル：岡 幸二郎ブレイキン：Shigekix、The Floorriorz
URL:https://kharada.com/schedule/250322-2/
LOCATION:MUZA Kawasaki Symphony Hall ミューザ川崎シンフォニーホール\, 1310 Omiyacho\, Saiwai Ward\, Kawasaki\, Kanagawa\, 212-8557\, Japan
ATTACH;FMTTYPE=image/jpeg:https://kharada.com/wp-content/uploads/2024/11/20241111_203709-e1731325576572.jpg
END:VEVENT
BEGIN:VEVENT
DTSTART;TZID=UTC:20250328T000000
DTEND;TZID=UTC:20250328T235959
DTSTAMP:20260422T145044
CREATED:20240306T021604Z
LAST-MODIFIED:20240306T021653Z
UID:1045-1743120000-1743206399@kharada.com
SUMMARY:CINCINNATI SYMPHONY ORCHESTRA
DESCRIPTION:ArtistsKeitaro Harada\, conductor \n\n\n\nAnne Akiko Meyers\, violin \n\n\n\nProgramTOYAMA: Rhapsody for OrchestraArturo MÁRQUEZ: Fandango \n\n\n\nRIMSKY-KORSAKOV: Sheherazade
URL:https://kharada.com/schedule/20250328/
LOCATION:Music Hall\, 1241 Elm St\, Cincinnati\, OH\, 45202\, United States
ATTACH;FMTTYPE=image/jpeg:https://kharada.com/wp-content/uploads/2024/03/KH-7-©37-Frames-scaled-e1709691338795.jpg
END:VEVENT
BEGIN:VEVENT
DTSTART;TZID=UTC:20250328T000000
DTEND;TZID=UTC:20250328T235959
DTSTAMP:20260422T145044
CREATED:20241027T234856Z
LAST-MODIFIED:20241027T234857Z
UID:1474-1743120000-1743206399@kharada.com
SUMMARY:NHK-FM
DESCRIPTION:マエストロ慶太楼の長電話
URL:https://kharada.com/schedule/250328/
ATTACH;FMTTYPE=image/png:https://kharada.com/wp-content/uploads/2024/10/NHK-FM-マエストロ慶太楼の長電話.png
END:VEVENT
BEGIN:VEVENT
DTSTART;TZID=UTC:20250329T000000
DTEND;TZID=UTC:20250329T235959
DTSTAMP:20260422T145044
CREATED:20240306T021857Z
LAST-MODIFIED:20240306T021858Z
UID:1058-1743206400-1743292799@kharada.com
SUMMARY:CINCINNATI SYMPHONY ORCHESTRA
DESCRIPTION:ArtistsKeitaro Harada\, conductor \n\n\n\nAnne Akiko Meyers\, violin \n\n\n\nProgramTOYAMA: Rhapsody for OrchestraArturo MÁRQUEZ: Fandango \n\n\n\nRIMSKY-KORSAKOV: Sheherazade
URL:https://kharada.com/schedule/20250329/
LOCATION:Music Hall\, 1241 Elm St\, Cincinnati\, OH\, 45202\, United States
ATTACH;FMTTYPE=image/jpeg:https://kharada.com/wp-content/uploads/2024/03/KH-12-©37-Frames-scaled-e1709691467767.jpg
END:VEVENT
BEGIN:VEVENT
DTSTART;TZID=UTC:20250404T000000
DTEND;TZID=UTC:20250404T235959
DTSTAMP:20260422T145044
CREATED:20250225T231222Z
LAST-MODIFIED:20250226T100153Z
UID:1583-1743724800-1743811199@kharada.com
SUMMARY:DAYTON OPERA
DESCRIPTION:Keitaro Harada – ConductorKathleen Clawson – DirectorCrystal Michelle – ChoreographerDayton Philharmonic Orchestra \n\n\n\nDayton Ballet \n\n\n\nDayton Contemporary Dance Company \n\n\n\nDayton Opera Chorus \n\n\n\nJeffrey Powell – Chorus MasterStivers Chamber Choir – Paula Powell\, directorLaquita Mitchell – AidaDeborah Nansteel – AmnerisNathan Granner – RadamesDarren Lekeith Drone – AmonasroKenneth Kellogg – RamphisAllen Michael Jones – King of Egypt
URL:https://kharada.com/schedule/250404/
LOCATION:Benjamin & Marian Schuster Performing Arts Center\, 1 W 2nd St\, Dayton\, OH\, 45402\, United States
ATTACH;FMTTYPE=image/png:https://kharada.com/wp-content/uploads/2025/02/2504-Aida-e1740564046679.png
END:VEVENT
BEGIN:VEVENT
DTSTART;TZID=UTC:20250406T000000
DTEND;TZID=UTC:20250406T235959
DTSTAMP:20260422T145044
CREATED:20250225T231348Z
LAST-MODIFIED:20250226T100150Z
UID:1586-1743897600-1743983999@kharada.com
SUMMARY:DAYTON OPERA
DESCRIPTION:Keitaro Harada – ConductorKathleen Clawson – DirectorCrystal Michelle – ChoreographerDayton Philharmonic Orchestra \n\n\n\nDayton Ballet \n\n\n\nDayton Contemporary Dance Company \n\n\n\nDayton Opera Chorus \n\n\n\nJeffrey Powell – Chorus MasterStivers Chamber Choir – Paula Powell\, directorLaquita Mitchell – AidaDeborah Nansteel – AmnerisNathan Granner – RadamesDarren Lekeith Drone – AmonasroKenneth Kellogg – RamphisAllen Michael Jones – King of Egypt
URL:https://kharada.com/schedule/250406/
LOCATION:Benjamin & Marian Schuster Performing Arts Center\, 1 W 2nd St\, Dayton\, OH\, 45402\, United States
ATTACH;FMTTYPE=image/png:https://kharada.com/wp-content/uploads/2025/02/2504-Aida-e1740564046679.png
END:VEVENT
BEGIN:VEVENT
DTSTART;TZID=UTC:20250419T000000
DTEND;TZID=UTC:20250419T235959
DTSTAMP:20260422T145044
CREATED:20250410T154632Z
LAST-MODIFIED:20250412T222510Z
UID:1722-1745020800-1745107199@kharada.com
SUMMARY:HYOGO PERFORMING ARTS CENTER ORCHESTRA
DESCRIPTION:曲目 \n\n\n\nグレグソン：サクソフォン協奏曲より第2楽章抜粋・第3楽章【崔 勝貴】 \n\n\n\nモーツァルト：フルート協奏曲第1番より第1楽章【山本 英】 \n\n\n\n宮城道雄・下總皖一：壱越調箏協奏曲より 第3楽章「さらし風終曲」【橋本桂子】 \n\n\n\nバルトーク：ピアノ協奏曲第2番より第1楽章【水谷友彦】 \n\n\n\nコルンゴルト：ヴァイオリン協奏曲より第1楽章【岸本萌乃加】 \n\n\n\nテデスコ：ギター協奏曲より第3楽章【山口莉奈】 \n\n\n\n芥川也寸志：オーケストラのためのラプソディ \n\n\n\n出演 \n\n\n\n指揮／原田慶太楼 \n\n\n\nサクソフォン／崔 勝貴 \n\n\n\nフルート／山本 英 \n\n\n\n箏／橋本桂子 \n\n\n\nピアノ／水谷友彦 \n\n\n\nヴァイオリン／岸本萌乃加 \n\n\n\nギター／山口莉奈 \n\n\n\n管弦楽／兵庫芸術文化センター管弦楽団
URL:https://kharada.com/schedule/250419/
LOCATION:Hyogo Performing Arts Center 兵庫県立芸術文化センター\, 2-22 Takamatsucho\, Nishinomiya\, Hyogo\, 663-8204\, Japan
ATTACH;FMTTYPE=image/jpeg:https://kharada.com/wp-content/uploads/2025/04/20241229_041944.jpg
END:VEVENT
BEGIN:VEVENT
DTSTART;TZID=UTC:20250424T000000
DTEND;TZID=UTC:20250426T235959
DTSTAMP:20260422T145044
CREATED:20250410T154847Z
LAST-MODIFIED:20250410T155157Z
UID:1730-1745452800-1745711999@kharada.com
SUMMARY:SAVANNAH PHILHARMONIC
DESCRIPTION:PHIL THE NEIGHBORHOOD  \n\n\n\n \n\n\n\nSavannah Quarters – Thursday\, April 24\, 2025 – 6:30 PM \n\n\n\nParkside – Friday\, April 25\, 2025 – 6:30 PM \n\n\n\nChippewa Square – Saturday\, April 26\, 2025 – 1:00 PM \n\n\n\nCuyler/Brownsville “Pressboy” Park – Saturday\, April 26\, 2025 – 6:00 PM
URL:https://kharada.com/schedule/240424/
ATTACH;FMTTYPE=image/png:https://kharada.com/wp-content/uploads/2022/11/SavPhil-4c-w-Kei.png
END:VEVENT
BEGIN:VEVENT
DTSTART;TZID=UTC:20250503T000000
DTEND;TZID=UTC:20250503T235959
DTSTAMP:20260422T145044
CREATED:20240403T040625Z
LAST-MODIFIED:20240403T041033Z
UID:1153-1746230400-1746316799@kharada.com
SUMMARY:SAVANNAH PHILHARMONIC
DESCRIPTION:Keitaro Harada conductorHina Khuong-Huu violinSavannah Philharmonic ChorusPaul Thornock chorus master \n\n\n\nSIBELIUS Two songs with chorusSIBELIUS Symphony No. 3SIBELIUS Violin ConcertoSIBELIUS Finlandia (with chorus)
URL:https://kharada.com/schedule/250503/
LOCATION:Lucas Theatre For the Arts\, 32 Abercorn St\, Savannah\, GA\, 31401\, United States
ATTACH;FMTTYPE=image/jpeg:https://kharada.com/wp-content/uploads/2024/04/Hina-Khuong-Huu-1_Todd-Rosenberg_LG-e1712116951386.jpg
END:VEVENT
BEGIN:VEVENT
DTSTART;TZID=UTC:20250516T000000
DTEND;TZID=UTC:20250516T235959
DTSTAMP:20260422T145044
CREATED:20240311T232703Z
LAST-MODIFIED:20240311T233137Z
UID:1084-1747353600-1747439999@kharada.com
SUMMARY:INDIANAPOLIS SYMPHONY
DESCRIPTION:KEITARO HARADA conductorRICHARD LIN violinDVORAK Violin ConcertoRACHMANINOFF Symphony No. 2
URL:https://kharada.com/schedule/20250516/
LOCATION:Hilbert Circle Theatre\, 45 Monument Cir\, Indianapolis\, Indiana\, 46204\, United States
ATTACH;FMTTYPE=image/jpeg:https://kharada.com/wp-content/uploads/2024/03/KH-10-©37-Frames-scaled-e1709691634544.jpg
END:VEVENT
BEGIN:VEVENT
DTSTART;TZID=UTC:20250517T000000
DTEND;TZID=UTC:20250517T235959
DTSTAMP:20260422T145044
CREATED:20240311T233025Z
LAST-MODIFIED:20240311T233206Z
UID:1090-1747440000-1747526399@kharada.com
SUMMARY:INDIANAPOLIS SYMPHONY
DESCRIPTION:KEITARO HARADA conductorRICHARD LIN violinDVORAK Violin ConcertoRACHMANINOFF Symphony No. 2
URL:https://kharada.com/schedule/20250517/
LOCATION:Hilbert Circle Theatre\, 45 Monument Cir\, Indianapolis\, Indiana\, 46204\, United States
ATTACH;FMTTYPE=image/jpeg:https://kharada.com/wp-content/uploads/2022/12/©MASATOSHI-YAMASHIRO16-scaled-e1670076473480.jpg
END:VEVENT
BEGIN:VEVENT
DTSTART;TZID=UTC:20250522T000000
DTEND;TZID=UTC:20250522T235959
DTSTAMP:20260422T145044
CREATED:20250410T092015Z
LAST-MODIFIED:20250410T092016Z
UID:1718-1747872000-1747958399@kharada.com
SUMMARY:TOKYO PHILHARMONIC
DESCRIPTION:HIMARI violinKARLIS BUKOVSKIS pianoSIBELIUS FinlandiaSIBELIUS Violin ConcertoRACHMANINOFF Piano Concerto No. 3
URL:https://kharada.com/schedule/250522/
LOCATION:Suntory Hall サントリーホール\, Tokyo\, Japan
ATTACH;FMTTYPE=image/jpeg:https://kharada.com/wp-content/uploads/2025/04/MT_HIMARI_SHOT2-133_re3-e1744276788868.jpg
END:VEVENT
BEGIN:VEVENT
DTSTART;TZID=UTC:20250524T000000
DTEND;TZID=UTC:20250524T235959
DTSTAMP:20260422T145044
CREATED:20250223T230856Z
LAST-MODIFIED:20250223T230858Z
UID:1578-1748044800-1748131199@kharada.com
SUMMARY:HARIMA NO KUNI WIND ORCHESTRA
DESCRIPTION:RACHMANINOFF Piano Concerto No. 2RIMSKY-KORSAKOV ScheherazadeKANON MATSUDA pianoFUMINORI SHINOZAKI violin \n\n\n\n\n\n\n\n播磨国吹奏楽団演奏会『広がる吹奏楽の世界』 \n\n\n\n華麗、情熱、自由を奏でるマスターオブヴァイオリニスト・篠崎“MARO”史紀がソロを弾く渾身のシェヘラザード。 \n\n\n\n本場ロシアで磨き抜かれたピアニスト・松田華音の力強く、そして美しい音色で贈るラフマニノフ。 \n\n\n\nそして、世界が求める新進気鋭の熱きマエストロ・原田慶太楼がタクトを振る！ \n\n\n\nトップアーティストが姫路に集結し、地元姫路から阪神間で活躍するプロ奏者で構成された播磨国吹奏楽団が共演。 \n\n\n\nこの春、新たな吹奏楽の扉が開かれる！ \n\n\n\n【出演者】 \n\n\n\n指揮／原田慶太楼 \n\n\n\nヴァイオリン／篠崎史紀 \n\n\n\nピアノ／松田華音 \n\n\n\n演奏／播磨国吹奏楽団 \n\n\n\n司会／空井仁美 \n\n\n\n【プログラム】 \n\n\n\nラフマニノフ／ピアノ協奏曲第２番 ハ短調 \n\n\n\nリムスキー＝コルサコフ／交響組曲『シェヘラザード』 \n\n\n\n主催／公益財団法人姫路市文化国際交流財団 \n\n\n\n共催／姫路市 \n\n\n\n後援／姫路市教育委員会 \n\n\n\n協力／西播吹奏楽連盟
URL:https://kharada.com/schedule/250524/
ATTACH;FMTTYPE=image/jpeg:https://kharada.com/wp-content/uploads/2025/02/250524-e1740351842392.jpg
END:VEVENT
BEGIN:VEVENT
DTSTART;TZID=UTC:20250525T000000
DTEND;TZID=UTC:20250525T235959
DTSTAMP:20260422T145044
CREATED:20250223T232042Z
LAST-MODIFIED:20250223T232226Z
UID:1580-1748131200-1748217599@kharada.com
SUMMARY:HARIMA NO KUNI WIND ORCHESTRA
DESCRIPTION:リーデンローズ　大ホール \n\n\n\n日本を代表する声楽家小林沙羅の公演と、世界中で活躍する日本人指揮者の一人原田慶太楼率いる吹奏楽団の2本立てⅠ.Soprano en Rose ～ばらに包まれて～【出演】小林沙羅（ソプラノ）／河原忠之（ピアノ）／池辺晋一郎（ナビゲーター）【曲目】J.W.ゲーテ F.シューベルト：野ばら D.257 ほかⅡ.ばらの風が運ぶ音楽会【出演】原田慶太楼（指揮）／播磨国吹奏楽団（吹奏楽）【曲目】R.シュトラウス：喜歌劇「ばらの騎士」ほか
URL:https://kharada.com/schedule/250525/
ATTACH;FMTTYPE=image/jpeg:https://kharada.com/wp-content/uploads/2025/02/SaraKobayashi-scaled-e1740352935115.jpg
END:VEVENT
BEGIN:VEVENT
DTSTART;TZID=UTC:20250531T000000
DTEND;TZID=UTC:20250531T235959
DTSTAMP:20260422T145044
CREATED:20250527T085550Z
LAST-MODIFIED:20250527T085551Z
UID:1762-1748649600-1748735999@kharada.com
SUMMARY:TOKYO PHILHARMONIC ORCHESTRA
DESCRIPTION:映画音楽界の巨匠 ジョン・ウィリアムズの音楽を贅沢に堪能する、豪華フル・オーケストラコンサート！出演指揮：原田慶太楼ヴァイオリン：篠崎史紀オーケストラ：東京フィルハーモニー交響楽団プログラム映画「スター・ウォーズ」シリーズより一挙演奏！…and more!!
URL:https://kharada.com/schedule/250531/
LOCATION:Suntory Hall サントリーホール\, Tokyo\, Japan
ATTACH;FMTTYPE=image/webp:https://kharada.com/wp-content/uploads/2023/02/JohnWilliams.webp
END:VEVENT
BEGIN:VEVENT
DTSTART;TZID=UTC:20250601T000000
DTEND;TZID=UTC:20250601T235959
DTSTAMP:20260422T145044
CREATED:20250215T002330Z
LAST-MODIFIED:20250324T063105Z
UID:1573-1748736000-1748822399@kharada.com
SUMMARY:WAGNER SOCIETY ORCHESTRA
DESCRIPTION:IFUKUBE : Symphonic Fantasia No. 1NIELSEN : Symphony No.1\, G minor\, op.7DVORAK : Symphony No.7\, op.70\, B.141\, D minor \n\n\n\nワグネル・ソサィエティー・オーケストラ(慶應義塾大学公認学生団体) \n\n\n\n【第245回定期演奏会】 \n\n\n\n伊福部昭 / SF交響ファンタジー第1番 \n\n\n\nニールセン / 交響曲第1番 \n\n\n\nドヴォルザーク / 交響曲第7番
URL:https://kharada.com/schedule/250601/
LOCATION:MUZA Kawasaki Symphony Hall ミューザ川崎シンフォニーホール\, 1310 Omiyacho\, Saiwai Ward\, Kawasaki\, Kanagawa\, 212-8557\, Japan
ATTACH;FMTTYPE=image/jpeg:https://kharada.com/wp-content/uploads/2025/03/20250324_021952-e1742797346997.jpg
END:VEVENT
BEGIN:VEVENT
DTSTART;TZID=UTC:20250607T000000
DTEND;TZID=UTC:20250607T235959
DTSTAMP:20260422T145044
CREATED:20250204T224554Z
LAST-MODIFIED:20250204T224659Z
UID:1558-1749254400-1749340799@kharada.com
SUMMARY:YOMIURI NIPPON SYMPHONY ORCHESTRA
DESCRIPTION:KEITARO HARADA conductorHIMARI violinTCHAIKOVSKY Eugene Onegin PolonaiseSIBELIUS Violin ConcertoBEETHOVEN Symphony  No. 7伊予銀行 presents 読売日本交響楽団 愛媛公演2025 原田慶太楼×ＨＩＭＡＲＩ \n\n\n\n2025 6. 7〈土〉　14:00　 \n\n\n\n会場＝愛媛県県民文化会館 メインホール指揮＝原田慶太楼ヴァイオリン＝HIMARIチャイコフスキー：歌劇「エフゲニー・オネーギン」から“ポロネーズ”シベリウス：ヴァイオリン協奏曲 ニ短調 作品47ベートーヴェン：交響曲第7番 イ長調 作品92
URL:https://kharada.com/schedule/250607/
LOCATION:Ehime Prefectural Convention Hall 愛媛県県民文化会館\, 〒790-0843 Ehime\, Matsuyama\, Dogomachi\, 2 Chome−5−1 1F\, Japan
ATTACH;FMTTYPE=image/png:https://kharada.com/wp-content/uploads/2025/02/Screen-Shot-2025-02-05-at-7.43.17-AM-e1738709112289.png
END:VEVENT
BEGIN:VEVENT
DTSTART;TZID=UTC:20250608T000000
DTEND;TZID=UTC:20250608T235959
DTSTAMP:20260422T145044
CREATED:20250204T224155Z
LAST-MODIFIED:20250204T224718Z
UID:1553-1749340800-1749427199@kharada.com
SUMMARY:YOMIURI NIPPON SYMPHONY ORCHESTRA
DESCRIPTION:KEITARO HARADA conductorHIMARI violinTCHAIKOVSKY Eugene Onegin PolonaiseSIBELIUS Violin ConcertoBEETHOVEN Symphony  No. 7読響 枚方公演 2025 原田慶太楼×HIMARI2025 6. 8〈日〉　18:00　 \n\n\n\n会場＝枚方市総合文化芸術センター (本館) 関西医大 大ホール \n\n\n\n指揮＝原田慶太楼ヴァイオリン＝HIMARI \n\n\n\nチャイコフスキー：歌劇「エフゲニー・オネーギン」から“ポロネーズ”シベリウス：ヴァイオリン協奏曲 ニ短調 作品47ベートーヴェン：交響曲第7番 イ長調 作品92
URL:https://kharada.com/schedule/250608/
LOCATION:Hirakata Performing ＆ Visual Arts Center 枚方市総合文化芸術センター\, 2 Chome-1-60 Shinmachi\, Hirakata\, Osaka 573-1191\, Japan
ATTACH;FMTTYPE=image/png:https://kharada.com/wp-content/uploads/2025/02/Screen-Shot-2025-02-05-at-7.37.57-AM-e1738708812482.png
END:VEVENT
BEGIN:VEVENT
DTSTART;TZID=UTC:20250615T000000
DTEND;TZID=UTC:20250615T235959
DTSTAMP:20260422T145044
CREATED:20250310T121554Z
LAST-MODIFIED:20250310T121600Z
UID:1598-1749945600-1750031999@kharada.com
SUMMARY:TOKYO WIND SYMPHONY ORCHESTRA
DESCRIPTION:KEITARO HARADA conductorDENIS BOURIAKOV flute SOUSA The Liberty BellMIYUKO ODA A Journey to Rebirth – Memories of Dewa mountainsDAVID GILLINGHAM With Heart and VoiceGRAINGER Lincolnshire PosyKHACHATURIAN Violin Concerto for Flute
URL:https://kharada.com/schedule/250615/
LOCATION:Sumida Triphony Hall すみだトリフォニーホール\, 1 Chome-2-3 Kinshi\,\, Sumida\, Tokyo\, Japan
ATTACH;FMTTYPE=image/jpeg:https://kharada.com/wp-content/uploads/2025/03/1741522070119.jpg
END:VEVENT
BEGIN:VEVENT
DTSTART;TZID=UTC:20250621T000000
DTEND;TZID=UTC:20250621T235959
DTSTAMP:20260422T145044
CREATED:20241206T102241Z
LAST-MODIFIED:20250611T112321Z
UID:1536-1750464000-1750550399@kharada.com
SUMMARY:MT. FUJI PHILHARMONIC ORCHESTRA
DESCRIPTION:2025/6/21・22  第131回定期演奏会＜静岡公演・浜松公演＞＜静岡公演＞ \n\n\n\n2025年6月21日（土） \n\n\n\n13:30開演（12:45開場） \n\n\n\n静岡市清水文化会館マリナート 大ホール \n\n\n\n​ \n\n\n\n＜浜松公演＞ \n\n\n\n2025年6月22日（日） \n\n\n\n13:30開演（12:45開場） \n\n\n\nアクトシティ浜松 中ホール \n\n\n\n指揮：原田慶太楼 \n\n\n\nヴィオラ：川本嘉子* \n\n\n\n \n\n\n\nウォルトン／組曲「賢いおとめたち」（バッハの曲による） \n\n\n\nシューマン／チェロ協奏曲 イ短調 op.129（ヴィオラ版）* \n\n\n\nシューマン／交響曲 第2番 ハ長調 op.61
URL:https://kharada.com/schedule/250621/
LOCATION:Shimizu Cultural Center Marinart 静岡市清水文化会館マリナート\, Shizuoka\, Japan
ATTACH;FMTTYPE=image/jpeg:https://kharada.com/wp-content/uploads/2024/12/20250611_202153-e1749641081514.jpg
END:VEVENT
BEGIN:VEVENT
DTSTART;TZID=UTC:20250622T000000
DTEND;TZID=UTC:20250622T235959
DTSTAMP:20260422T145044
CREATED:20241206T102422Z
LAST-MODIFIED:20250611T112355Z
UID:1537-1750550400-1750636799@kharada.com
SUMMARY:MT. FUJI PHILHARMONIC ORCHESTRA
DESCRIPTION:2025/6/21・22  第131回定期演奏会＜静岡公演・浜松公演＞＜静岡公演＞ \n\n\n\n2025年6月21日（土） \n\n\n\n13:30開演（12:45開場） \n\n\n\n静岡市清水文化会館マリナート 大ホール \n\n\n\n​ \n\n\n\n＜浜松公演＞ \n\n\n\n2025年6月22日（日） \n\n\n\n13:30開演（12:45開場） \n\n\n\nアクトシティ浜松 中ホール \n\n\n\n指揮：原田慶太楼 \n\n\n\nヴィオラ：川本嘉子* \n\n\n\n \n\n\n\nウォルトン／組曲「賢いおとめたち」（バッハの曲による） \n\n\n\nシューマン／チェロ協奏曲 イ短調 op.129（ヴィオラ版）* \n\n\n\nシューマン／交響曲 第2番 ハ長調 op.61
URL:https://kharada.com/schedule/250622/
LOCATION:ACT CITY HAMAMATSU アクトシティ浜松\, 111-1 Itayamachi\, Chuo Ward\, Hamamatsu\, Shizuoka 430-7790\, Japan
ATTACH;FMTTYPE=image/jpeg:https://kharada.com/wp-content/uploads/2024/12/20250611_202153-e1749641081514.jpg
END:VEVENT
END:VCALENDAR