BEGIN:VCALENDAR
VERSION:2.0
PRODID:-//KEITARO HARADA - ECPv6.15.20//NONSGML v1.0//EN
CALSCALE:GREGORIAN
METHOD:PUBLISH
X-WR-CALNAME:KEITARO HARADA
X-ORIGINAL-URL:https://kharada.com
X-WR-CALDESC:Events for KEITARO HARADA
REFRESH-INTERVAL;VALUE=DURATION:PT1H
X-Robots-Tag:noindex
X-PUBLISHED-TTL:PT1H
BEGIN:VTIMEZONE
TZID:Asia/Tokyo
BEGIN:STANDARD
TZOFFSETFROM:+0900
TZOFFSETTO:+0900
TZNAME:JST
DTSTART:20210101T000000
END:STANDARD
END:VTIMEZONE
BEGIN:VEVENT
DTSTART;TZID=Asia/Tokyo:20221123T170000
DTEND;TZID=Asia/Tokyo:20221123T200000
DTSTAMP:20260423T023236
CREATED:20221117T145042Z
LAST-MODIFIED:20221120T012347Z
UID:64-1669222800-1669233600@kharada.com
SUMMARY:ORPHÉE AUX ENFERS | TOKYO NIKIKAI OPERA THEATRE
DESCRIPTION:Opera buffa in two actsLibretto by Ludovic Halévy and Hector-Jonathan CrémieuxMusic by JACQUES OFFENBACH \n\n\n\nWED. 23. 17:00\, THU. 24. 14:00\, SAT. 26. 14:00& SUN. 27. 14:00 November 2022at Nissay Theatre (Tokyo\, Japan) \n\n\n\nConductor: Keitaro HARADAStage Director: Hitoshi UYAMA \n\n\n\nSet Designer: Masahiro NORIMINECostume Designer: Masami HARALighting Designer: Toshiaki KOMIYAChoreographer: Eriko SHINKAI \n\n\n\nChorus Master: Takuya NEMOTOAssistant Stage Director: Maki UEBARU \n\n\n\nStage Manager: Takahiro SUGAHARAProduction Director: Tetsuya ONOAssociate Production Director: Kazuko NAGAI \n\n\n\nCASTPluton – Koi WATANABE | Masato TAKADAJupiter – Hideki MATAYOSHI | Takahiro SUGIURAOrphée – Kohei ICHIKAWA | Shota SHIMOMURAJohn Styx – Eijiro TAKANASHI | Jumpei AIYAMAMercure – Yasuharu NAKAJIMA | Toshimasa ARAKIBacchus – Yoshiyuki SHIKANO | Shinji KURAMOTOMars – Kimihiro SUGAYA | Masataka MATOBAEurydice – Momoko YUASA | Akiko TOMIHIRADiane – Junko UEDA | Ohka KAWADAL’Opinion publique – Setsuko TAKEMOTO | Masako TESHIMAVénus – Mai WASHIO | Yukari KIYONOCupidon – Momoko YOSHIDA | Noriko MATSUBARAJunon – Noriko MASUDA | Tomoko SHIBATAMinerve – Rumi KITAHARA | Airi NAKANOChorus: Nikikai Chorus GroupOrchestra: Tokyo Philharmonic Orchestra
URL:https://kharada.com/schedule/20221123/
LOCATION:Nissay Theatre 日生劇場\, Tokyo\, Japan
ATTACH;FMTTYPE=image/png:https://kharada.com/wp-content/uploads/2022/11/NIKIKAI-1-e1668907394768.png
END:VEVENT
BEGIN:VEVENT
DTSTART;TZID=Asia/Tokyo:20221124T140000
DTEND;TZID=Asia/Tokyo:20221124T170000
DTSTAMP:20260423T023236
CREATED:20221117T143407Z
LAST-MODIFIED:20221120T012442Z
UID:52-1669298400-1669309200@kharada.com
SUMMARY:ORPHÉE AUX ENFERS | TOKYO NIKIKAI OPERA THEATRE
DESCRIPTION:Opera buffa in two actsLibretto by Ludovic Halévy and Hector-Jonathan CrémieuxMusic by JACQUES OFFENBACH \n\n\n\nWED. 23. 17:00\, THU. 24. 14:00\, SAT. 26. 14:00& SUN. 27. 14:00 November 2022at Nissay Theatre (Tokyo\, Japan) \n\n\n\nConductor: Keitaro HARADAStage Director: Hitoshi UYAMA \n\n\n\nSet Designer: Masahiro NORIMINECostume Designer: Masami HARALighting Designer: Toshiaki KOMIYAChoreographer: Eriko SHINKAI \n\n\n\nChorus Master: Takuya NEMOTOAssistant Stage Director: Maki UEBARU \n\n\n\nStage Manager: Takahiro SUGAHARAProduction Director: Tetsuya ONOAssociate Production Director: Kazuko NAGAI \n\n\n\nCASTPluton – Koi WATANABE | Masato TAKADAJupiter – Hideki MATAYOSHI | Takahiro SUGIURAOrphée – Kohei ICHIKAWA | Shota SHIMOMURAJohn Styx – Eijiro TAKANASHI | Jumpei AIYAMAMercure – Yasuharu NAKAJIMA | Toshimasa ARAKIBacchus – Yoshiyuki SHIKANO | Shinji KURAMOTOMars – Kimihiro SUGAYA | Masataka MATOBAEurydice – Momoko YUASA | Akiko TOMIHIRADiane – Junko UEDA | Ohka KAWADAL’Opinion publique – Setsuko TAKEMOTO | Masako TESHIMAVénus – Mai WASHIO | Yukari KIYONOCupidon – Momoko YOSHIDA | Noriko MATSUBARAJunon – Noriko MASUDA | Tomoko SHIBATAMinerve – Rumi KITAHARA | Airi NAKANOChorus: Nikikai Chorus GroupOrchestra: Tokyo Philharmonic Orchestra
URL:https://kharada.com/schedule/20221124/
LOCATION:Nissay Theatre 日生劇場\, Tokyo\, Japan
ATTACH;FMTTYPE=image/png:https://kharada.com/wp-content/uploads/2022/11/NIKIKAI-1-e1668907394768.png
END:VEVENT
BEGIN:VEVENT
DTSTART;TZID=Asia/Tokyo:20221126T140000
DTEND;TZID=Asia/Tokyo:20221126T170000
DTSTAMP:20260423T023236
CREATED:20221117T145442Z
LAST-MODIFIED:20221120T012458Z
UID:66-1669471200-1669482000@kharada.com
SUMMARY:ORPHÉE AUX ENFERS | TOKYO NIKIKAI OPERA THEATRE
DESCRIPTION:Opera buffa in two actsLibretto by Ludovic Halévy and Hector-Jonathan CrémieuxMusic by JACQUES OFFENBACH \n\n\n\nWED. 23. 17:00\, THU. 24. 14:00\, SAT. 26. 14:00& SUN. 27. 14:00 November 2022at Nissay Theatre (Tokyo\, Japan) \n\n\n\nConductor: Keitaro HARADAStage Director: Hitoshi UYAMA \n\n\n\nSet Designer: Masahiro NORIMINECostume Designer: Masami HARALighting Designer: Toshiaki KOMIYAChoreographer: Eriko SHINKAI \n\n\n\nChorus Master: Takuya NEMOTOAssistant Stage Director: Maki UEBARU \n\n\n\nStage Manager: Takahiro SUGAHARAProduction Director: Tetsuya ONOAssociate Production Director: Kazuko NAGAI \n\n\n\nCASTPluton – Koi WATANABE | Masato TAKADAJupiter – Hideki MATAYOSHI | Takahiro SUGIURAOrphée – Kohei ICHIKAWA | Shota SHIMOMURAJohn Styx – Eijiro TAKANASHI | Jumpei AIYAMAMercure – Yasuharu NAKAJIMA | Toshimasa ARAKIBacchus – Yoshiyuki SHIKANO | Shinji KURAMOTOMars – Kimihiro SUGAYA | Masataka MATOBAEurydice – Momoko YUASA | Akiko TOMIHIRADiane – Junko UEDA | Ohka KAWADAL’Opinion publique – Setsuko TAKEMOTO | Masako TESHIMAVénus – Mai WASHIO | Yukari KIYONOCupidon – Momoko YOSHIDA | Noriko MATSUBARAJunon – Noriko MASUDA | Tomoko SHIBATAMinerve – Rumi KITAHARA | Airi NAKANOChorus: Nikikai Chorus GroupOrchestra: Tokyo Philharmonic Orchestra
URL:https://kharada.com/schedule/20221126/
LOCATION:Nissay Theatre 日生劇場\, Tokyo\, Japan
ATTACH;FMTTYPE=image/png:https://kharada.com/wp-content/uploads/2022/11/NIKIKAI-1-e1668907394768.png
END:VEVENT
BEGIN:VEVENT
DTSTART;TZID=Asia/Tokyo:20221127T140000
DTEND;TZID=Asia/Tokyo:20221127T170000
DTSTAMP:20260423T023236
CREATED:20221117T145702Z
LAST-MODIFIED:20221120T012508Z
UID:68-1669557600-1669568400@kharada.com
SUMMARY:ORPHÉE AUX ENFERS | TOKYO NIKIKAI OPERA THEATRE
DESCRIPTION:Opera buffa in two actsLibretto by Ludovic Halévy and Hector-Jonathan CrémieuxMusic by JACQUES OFFENBACH \n\n\n\nWED. 23. 17:00\, THU. 24. 14:00\, SAT. 26. 14:00& SUN. 27. 14:00 November 2022at Nissay Theatre (Tokyo\, Japan) \n\n\n\nConductor: Keitaro HARADAStage Director: Hitoshi UYAMA \n\n\n\nSet Designer: Masahiro NORIMINECostume Designer: Masami HARALighting Designer: Toshiaki KOMIYAChoreographer: Eriko SHINKAI \n\n\n\nChorus Master: Takuya NEMOTOAssistant Stage Director: Maki UEBARU \n\n\n\nStage Manager: Takahiro SUGAHARAProduction Director: Tetsuya ONOAssociate Production Director: Kazuko NAGAI \n\n\n\nCASTPluton – Koi WATANABE | Masato TAKADAJupiter – Hideki MATAYOSHI | Takahiro SUGIURAOrphée – Kohei ICHIKAWA | Shota SHIMOMURAJohn Styx – Eijiro TAKANASHI | Jumpei AIYAMAMercure – Yasuharu NAKAJIMA | Toshimasa ARAKIBacchus – Yoshiyuki SHIKANO | Shinji KURAMOTOMars – Kimihiro SUGAYA | Masataka MATOBAEurydice – Momoko YUASA | Akiko TOMIHIRADiane – Junko UEDA | Ohka KAWADAL’Opinion publique – Setsuko TAKEMOTO | Masako TESHIMAVénus – Mai WASHIO | Yukari KIYONOCupidon – Momoko YOSHIDA | Noriko MATSUBARAJunon – Noriko MASUDA | Tomoko SHIBATAMinerve – Rumi KITAHARA | Airi NAKANOChorus: Nikikai Chorus GroupOrchestra: Tokyo Philharmonic Orchestra
URL:https://kharada.com/schedule/20221127/
LOCATION:Nissay Theatre 日生劇場\, Tokyo\, Japan
ATTACH;FMTTYPE=image/png:https://kharada.com/wp-content/uploads/2022/11/NIKIKAI-1-e1668907394768.png
END:VEVENT
END:VCALENDAR