BEGIN:VCALENDAR
VERSION:2.0
PRODID:-//KEITARO HARADA - ECPv6.15.20//NONSGML v1.0//EN
CALSCALE:GREGORIAN
METHOD:PUBLISH
X-WR-CALNAME:KEITARO HARADA
X-ORIGINAL-URL:https://kharada.com
X-WR-CALDESC:Events for KEITARO HARADA
REFRESH-INTERVAL;VALUE=DURATION:PT1H
X-Robots-Tag:noindex
X-PUBLISHED-TTL:PT1H
BEGIN:VTIMEZONE
TZID:Asia/Tokyo
BEGIN:STANDARD
TZOFFSETFROM:+0900
TZOFFSETTO:+0900
TZNAME:JST
DTSTART:20220101T000000
END:STANDARD
END:VTIMEZONE
BEGIN:VEVENT
DTSTART;TZID=Asia/Tokyo:20230307T180000
DTEND;TZID=Asia/Tokyo:20230307T200000
DTSTAMP:20260422T193255
CREATED:20221121T001110Z
LAST-MODIFIED:20230224T101414Z
UID:409-1678212000-1678219200@kharada.com
SUMMARY:AICHI CHAMBER ORCHESTRA
DESCRIPTION:KEITARO HARADA conductorTORU UEMATSU percussionSAWAKO YASUE percussionNORIYUKI SERA flute \n\n\n\nRobert Ward: Symphony No.6 [Japan Premiere] \n\n\n\nJohn Corigliano: Voyage (for flute and string orchestra) \n\n\n\nGeorge Walker: Up-Front Concerto \n\n\n\nMichael Daugherty: Flamingo [Japan Premiere] \n\n\n\nAaron Copland: Appalachian Spring Suite \n\n\n\n \n\n\n\nフルート/世良法之*打楽器/植松透**打楽器/安江佐和子*** \n\n\n\nウォード：交響曲第6番 [日本初演] \n\n\n\nコリリアーノ：航海* \n\n\n\nウォーカー：Up-Front 協奏曲** \n\n\n\nドアティ：フラミンゴ**/***　[日本初演] \n\n\n\nコープランド：組曲「アパラチアの春」
URL:https://kharada.com/schedule/20230307/
LOCATION:Shirakawa Hall 三井住友海上しらかわホール\, Nagoya\, Aichi\, Japan
ATTACH;FMTTYPE=image/png:https://kharada.com/wp-content/uploads/2022/11/ACO-2022-02.png
END:VEVENT
BEGIN:VEVENT
DTSTART;TZID=Asia/Tokyo:20230311T140000
DTEND;TZID=Asia/Tokyo:20230311T170000
DTSTAMP:20260422T193255
CREATED:20221121T002825Z
LAST-MODIFIED:20221121T002826Z
UID:417-1678543200-1678554000@kharada.com
SUMMARY:TOKYO SYMPHONY ORCHESTRA
DESCRIPTION:KEITARO HARADA conductor \n\n\n\n \n\n\n\nTAKASHI YOSHIMATSU : And Birds are still… op. 72TAKASHI YOSHIMATSU : Sinfonia in Birds ‘for the birds of youth’ op. 107KEITH EMERSON & GREG LAKE / YOSHIMATSU arr : Tarkus \n\n\n\nTAKASHI YOSHIMATSU : Symphony No. 3\, op. 75  \n\n\n\n \n\n\n\n鳥は静かに… op.72 \n\n\n\n鳥たちのシンフォニア“若き鳥たちに” op.107 \n\n\n\nキース・エマーソン＆グレッグ・レイク(吉松隆編曲)：タルカス \n\n\n\n交響曲第3番 op.75
URL:https://kharada.com/schedule/20230311/
LOCATION:Tokyo Metropolitan Theatre 東京芸術劇場\, Tokyo\, Japan
ATTACH;FMTTYPE=image/png:https://kharada.com/wp-content/uploads/2022/11/tso202303-e1668990219254.png
END:VEVENT
BEGIN:VEVENT
DTSTART;TZID=Asia/Tokyo:20230328T150000
DTEND;TZID=Asia/Tokyo:20230328T170000
DTSTAMP:20260422T193255
CREATED:20221121T003259Z
LAST-MODIFIED:20221125T052240Z
UID:422-1680015600-1680022800@kharada.com
SUMMARY:TOKYO SYMPHONY ORCHESTRA
DESCRIPTION:「第19回子どもたちと芸術家の出あう街」 \n\n\n\nプログラムガーシュウィン：組曲『ガール・クレイジー』より 序曲ヒナステラ：組曲『エスタンシア』より 「マランボ」エルガー：威風堂々チャイコフスキー：『眠りの森の美女』より 「ワルツ」李煥之（リ・カンシ）：春節序曲外山雄三：管弦楽のためのラプソディより　　ほか
URL:https://kharada.com/schedule/20230328/
LOCATION:Tokyo Metropolitan Theatre 東京芸術劇場\, Tokyo\, Japan
ATTACH;FMTTYPE=image/png:https://kharada.com/wp-content/uploads/2022/11/tso2023-03.png
END:VEVENT
END:VCALENDAR