BEGIN:VCALENDAR
VERSION:2.0
PRODID:-//KEITARO HARADA - ECPv6.15.20//NONSGML v1.0//EN
CALSCALE:GREGORIAN
METHOD:PUBLISH
X-WR-CALNAME:KEITARO HARADA
X-ORIGINAL-URL:https://kharada.com
X-WR-CALDESC:Events for KEITARO HARADA
REFRESH-INTERVAL;VALUE=DURATION:PT1H
X-Robots-Tag:noindex
X-PUBLISHED-TTL:PT1H
BEGIN:VTIMEZONE
TZID:America/New_York
BEGIN:DAYLIGHT
TZOFFSETFROM:-0500
TZOFFSETTO:-0400
TZNAME:EDT
DTSTART:20220313T070000
END:DAYLIGHT
BEGIN:STANDARD
TZOFFSETFROM:-0400
TZOFFSETTO:-0500
TZNAME:EST
DTSTART:20221106T060000
END:STANDARD
BEGIN:DAYLIGHT
TZOFFSETFROM:-0500
TZOFFSETTO:-0400
TZNAME:EDT
DTSTART:20230312T070000
END:DAYLIGHT
BEGIN:STANDARD
TZOFFSETFROM:-0400
TZOFFSETTO:-0500
TZNAME:EST
DTSTART:20231105T060000
END:STANDARD
BEGIN:DAYLIGHT
TZOFFSETFROM:-0500
TZOFFSETTO:-0400
TZNAME:EDT
DTSTART:20240310T070000
END:DAYLIGHT
BEGIN:STANDARD
TZOFFSETFROM:-0400
TZOFFSETTO:-0500
TZNAME:EST
DTSTART:20241103T060000
END:STANDARD
END:VTIMEZONE
BEGIN:VTIMEZONE
TZID:Asia/Tokyo
BEGIN:STANDARD
TZOFFSETFROM:+0900
TZOFFSETTO:+0900
TZNAME:JST
DTSTART:20220101T000000
END:STANDARD
END:VTIMEZONE
BEGIN:VTIMEZONE
TZID:Asia/Krasnoyarsk
BEGIN:STANDARD
TZOFFSETFROM:+0700
TZOFFSETTO:+0700
TZNAME:+07
DTSTART:20220101T000000
END:STANDARD
END:VTIMEZONE
BEGIN:VEVENT
DTSTART;TZID=America/New_York:20230414T190000
DTEND;TZID=America/New_York:20230414T200000
DTSTAMP:20260422T175726
CREATED:20230130T015459Z
LAST-MODIFIED:20230324T232117Z
UID:651-1681498800-1681502400@kharada.com
SUMMARY:SAVANNAH PHILHARMONINC
DESCRIPTION:KEITARO HARADA conductor \n\n\n\nRUBÉN RENGEL violin \n\n\n\nMOZART Violin Concerto No. 5 in A Major\, K.219 (Turkish) \n\n\n\nBEETHOVEN Symphony No. 2\, op.36\, in D Major
URL:https://kharada.com/schedule/20230414/
LOCATION:Georgia Southern University Performing Arts Center\, 847 Plant Drive\, Statesboro\, Georgia\, 30460\, United States
ATTACH;FMTTYPE=image/jpeg:https://kharada.com/wp-content/uploads/2023/01/Ruben-Rengel-e1674944647194.jpeg
END:VEVENT
BEGIN:VEVENT
DTSTART;TZID=America/New_York:20230415T193000
DTEND;TZID=America/New_York:20230415T210000
DTSTAMP:20260422T175726
CREATED:20230130T015445Z
LAST-MODIFIED:20230324T232123Z
UID:654-1681587000-1681592400@kharada.com
SUMMARY:SAVANNAH PHILHARMONIC
DESCRIPTION:KEITARO HARADA conductor \n\n\n\nRUBÉN RENGEL violin \n\n\n\nMOZART Violin Concerto No. 5 in A Major\, K.219 (Turkish) \n\n\n\nBEETHOVEN Symphony No. 2\, op.36\, in D Major
URL:https://kharada.com/schedule/20230415/
LOCATION:St. Anne’s Catholic Church\, 10550 Ford Ave.\, Richmond Hill\, Georgia\, 31324\, United States
ATTACH;FMTTYPE=image/jpeg:https://kharada.com/wp-content/uploads/2023/01/Ruben-Rengel-e1674944647194.jpeg
END:VEVENT
BEGIN:VEVENT
DTSTART;TZID=America/New_York:20230416T150000
DTEND;TZID=America/New_York:20230416T170000
DTSTAMP:20260422T175726
CREATED:20230130T015431Z
LAST-MODIFIED:20230324T232136Z
UID:647-1681657200-1681664400@kharada.com
SUMMARY:SAVANNAH PHILHARMONIC
DESCRIPTION:KEITARO HARADA conductorRUBÉN RENGEL violin \n\n\n\nMOZART Violin Concerto No. 5 in A Major\, K.219 (Turkish) \n\n\n\nBEETHOVEN Symphony No. 2\, op.36\, in D Major
URL:https://kharada.com/schedule/20230416-2/
LOCATION:Skidaway Island United Methodist Church\, 54 Diamond Causeway\, Savannah\, Georgia\, 31411\, United States
ATTACH;FMTTYPE=image/jpeg:https://kharada.com/wp-content/uploads/2023/01/Ruben-Rengel-e1674944647194.jpeg
END:VEVENT
BEGIN:VEVENT
DTSTART;TZID=Asia/Tokyo:20230422T170000
DTEND;TZID=Asia/Tokyo:20230422T200000
DTSTAMP:20260422T175726
CREATED:20221121T010447Z
LAST-MODIFIED:20230329T234024Z
UID:426-1682182800-1682193600@kharada.com
SUMMARY:JAPAN PHILHARMONIC ORCHESTRA
DESCRIPTION:Conductor: HARADA KeitaroVioloncello: Giovanni SOLLIMA \n\n\n\n \n\n\n\nAntonín DVOŘÁK: Concerto for Violoncello and Orchestra in b-minor\, op.104\, B.191YOSHIMATSU Takashi: Symphony No.6 “Birds and Angels” op.113 \n\n\n\n \n\n\n\n第386回横浜定期演奏会＜春季＞ \n\n\n\n指揮：原田慶太楼チェロ：ジョヴァンニ・ソッリマ \n\n\n\n \n\n\n\nドヴォルジャーク：チェロ協奏曲 ロ短調 op.104 B.191吉松隆：交響曲第6番《鳥と天使たち》 op.113
URL:https://kharada.com/schedule/20230422/
LOCATION:Yokohama Minato Mirai Hall 横浜みなとみらいホール\, Yokohama\, Kanagawa\, Japan
ATTACH;FMTTYPE=image/png:https://kharada.com/wp-content/uploads/2022/11/20230422-Japan-Phil-e1680133163428.png
END:VEVENT
BEGIN:VEVENT
DTSTART;TZID=Asia/Krasnoyarsk:20230423T140000
DTEND;TZID=Asia/Krasnoyarsk:20230423T170000
DTSTAMP:20260422T175726
CREATED:20230202T151832Z
LAST-MODIFIED:20230330T154422Z
UID:662-1682258400-1682269200@kharada.com
SUMMARY:TOKYO PHILHARMONIC ORCHESTRA
DESCRIPTION:THE MUSIC OF JOHN WILLIAMS：STAR WARS AND BEYOND \n\n\n\n出演指揮 ：原田慶太楼オーケストラ：東京フィルハーモニー交響楽団プログラム映画「ハリー・ポッター」シリーズ映画「スター・ウォーズ」シリーズ　　and more…!!
URL:https://kharada.com/schedule/20230423/
LOCATION:Suntory Hall サントリーホール\, Tokyo\, Japan
ATTACH;FMTTYPE=image/jpeg:https://kharada.com/wp-content/uploads/2023/02/JW_flyer_omote-e1680188655961.jpg
END:VEVENT
END:VCALENDAR