BEGIN:VCALENDAR
VERSION:2.0
PRODID:-//KEITARO HARADA - ECPv6.15.20//NONSGML v1.0//EN
CALSCALE:GREGORIAN
METHOD:PUBLISH
X-WR-CALNAME:KEITARO HARADA
X-ORIGINAL-URL:https://kharada.com
X-WR-CALDESC:Events for KEITARO HARADA
REFRESH-INTERVAL;VALUE=DURATION:PT1H
X-Robots-Tag:noindex
X-PUBLISHED-TTL:PT1H
BEGIN:VTIMEZONE
TZID:America/New_York
BEGIN:DAYLIGHT
TZOFFSETFROM:-0500
TZOFFSETTO:-0400
TZNAME:EDT
DTSTART:20220313T070000
END:DAYLIGHT
BEGIN:STANDARD
TZOFFSETFROM:-0400
TZOFFSETTO:-0500
TZNAME:EST
DTSTART:20221106T060000
END:STANDARD
BEGIN:DAYLIGHT
TZOFFSETFROM:-0500
TZOFFSETTO:-0400
TZNAME:EDT
DTSTART:20230312T070000
END:DAYLIGHT
BEGIN:STANDARD
TZOFFSETFROM:-0400
TZOFFSETTO:-0500
TZNAME:EST
DTSTART:20231105T060000
END:STANDARD
BEGIN:DAYLIGHT
TZOFFSETFROM:-0500
TZOFFSETTO:-0400
TZNAME:EDT
DTSTART:20240310T070000
END:DAYLIGHT
BEGIN:STANDARD
TZOFFSETFROM:-0400
TZOFFSETTO:-0500
TZNAME:EST
DTSTART:20241103T060000
END:STANDARD
END:VTIMEZONE
BEGIN:VTIMEZONE
TZID:Asia/Tokyo
BEGIN:STANDARD
TZOFFSETFROM:+0900
TZOFFSETTO:+0900
TZNAME:JST
DTSTART:20220101T000000
END:STANDARD
END:VTIMEZONE
BEGIN:VTIMEZONE
TZID:Asia/Krasnoyarsk
BEGIN:STANDARD
TZOFFSETFROM:+0700
TZOFFSETTO:+0700
TZNAME:+07
DTSTART:20220101T000000
END:STANDARD
END:VTIMEZONE
BEGIN:VTIMEZONE
TZID:UTC
BEGIN:STANDARD
TZOFFSETFROM:+0000
TZOFFSETTO:+0000
TZNAME:UTC
DTSTART:20220101T000000
END:STANDARD
END:VTIMEZONE
BEGIN:VEVENT
DTSTART;TZID=America/New_York:20230506T193000
DTEND;TZID=America/New_York:20230506T220000
DTSTAMP:20260422T162802
CREATED:20221120T235138Z
LAST-MODIFIED:20221120T235200Z
UID:398-1683401400-1683410400@kharada.com
SUMMARY:SAVANNAH PHILHARMONIC
DESCRIPTION:SAVANNAH PHILHARMONIC &SAVANNAH PHILHARMONIC CHORUS \n\n\n\n \n\n\n\nKEITARO HARADA conductorPAUL THORNOCK chorus master\, organistANNA CHRISTY soprano \n\n\n\n \n\n\n\nOur finale begins with the world premiere of Homage by local composer\, Robin Beauchamp. This three movement work features compositions in the style of film composers\, Bernard Herrmann\, Maurice Jarre\, and Eric Wolfgang Korngold. \n\n\n\nAs we conclude the season\, join us in celebrating the Lucas Theatre’s newly restored magnificent organ with Saint-Saëns Symphony No. 3. \n\n\n\n \n\n\n\nROBIN BEAUCHAMP Homage (World Premiere)I. PremonitionII. The Darkness Declares the Glory of the LightIII. Celtic Fanfare \n\n\n\n \n\n\n\nPOULENC Gloria\, FP 177I. Gloria in excelsis DeoII. Laudamus teIII. Domine Deus\, Rex caelestisIV. Domine Fili unigeniteV. Domine Deus\, Agnus DeiVI. Qui sedes ad dexteram Patris \n\n\n\n \n\n\n\nSAINT-SAËNS Symphony No. 3\, op. 78\, C minor (Organ Symphony)PART IAdagio – Allegro moderatoPoco adagioPART IIAllegro moderato – PrestoMaestoso – Allegro
URL:https://kharada.com/schedule/20230506/
LOCATION:Lucas Theatre For the Arts\, 32 Abercorn St\, Savannah\, GA\, 31401\, United States
ATTACH;FMTTYPE=image/jpeg:https://kharada.com/wp-content/uploads/2022/11/anna.jpeg
END:VEVENT
BEGIN:VEVENT
DTSTART;TZID=Asia/Tokyo:20230515T190000
DTEND;TZID=Asia/Tokyo:20230515T220000
DTSTAMP:20260422T162802
CREATED:20221121T012133Z
LAST-MODIFIED:20230322T141243Z
UID:431-1684177200-1684188000@kharada.com
SUMMARY:TOKYO CITY PHILHARMONIC ORCHESTRA & AICHI CHAMBER ORCHESTRA
DESCRIPTION:NEW CLASSIC PROJECT2023年5月15日(月) 19:00開場 / 終演予定18:20 / 21:00会場東京オペラシティ コンサートホール　Tokyo Opera City Concert Hall出演藤岡幸夫　Sachio Fujioka (指揮\, Conductor)山田和樹　Kazuki Yamada (指揮\, Conductor)鈴木優人　Masato Suzuki (指揮\, Conductor)原田慶太楼　Keitaro Harada (指揮\, Conductor)安江陽奈子　Hinako Yasue (ソプラノ\, Soprano)東京シティ・フィルハーモニック管弦楽団　Tokyo City Philharmonic Orchestra愛知室内オーケストラ　Aichi Chamber Orchestra
URL:https://kharada.com/schedule/20230515/
LOCATION:Tokyo Opera City 東京オペラシティ\, Tokyo\, Japan
ATTACH;FMTTYPE=image/png:https://kharada.com/wp-content/uploads/2023/03/20230515-e1679493862817.png
END:VEVENT
BEGIN:VEVENT
DTSTART;TZID=Asia/Krasnoyarsk:20230520T140000
DTEND;TZID=Asia/Krasnoyarsk:20230520T160000
DTSTAMP:20260422T162802
CREATED:20230224T103027Z
LAST-MODIFIED:20250412T222451Z
UID:436-1684591200-1684598400@kharada.com
SUMMARY:HYOGO PERFORMING ARTS CENTER ORCHESTRA
DESCRIPTION:指揮原田慶太楼テノール谷口耕平トロンボーン辻󠄀 姫子ピアノ久末 航マリンバ岩見玲奈ヴァイオリン林 周雅ソプラノ梨谷桃子管弦楽兵庫芸術文化センター管弦楽団 \n\n\n\nドニゼッティ：歌劇「連隊の娘」より 序曲、 “ああ、友よ、なんとめでたい日”（谷口耕平）ニーノ・ロータ：トロンボーン協奏曲より 第１楽章、第３楽章（辻󠄀姫子）ルトスワフスキ：パガニーニ変奏曲（久末航）コッペル：マリンバ協奏曲より 第３楽章（岩見玲奈）カバレフスキー：ヴァイオリン協奏曲より 第３楽章（林周雅）プッチーニ：歌劇「蝶々夫人」より “ある晴れた日に”（梨谷桃子）プッチーニ：歌劇「蝶々夫人」より 愛の二重唱（梨谷桃子、谷口耕平）ボロディン：歌劇「イーゴリ公」より ポロヴィッツ人の踊り（だったん人の踊り）
URL:https://kharada.com/schedule/20230520/
LOCATION:KOBELCO HALL\, Hyogo\, Japan
ATTACH;FMTTYPE=image/png:https://kharada.com/wp-content/uploads/2022/11/Hyogo-2023-05.png
END:VEVENT
BEGIN:VEVENT
DTSTART;TZID=Asia/Krasnoyarsk:20230527T150000
DTEND;TZID=Asia/Krasnoyarsk:20230527T170000
DTSTAMP:20260422T162802
CREATED:20230203T111412Z
LAST-MODIFIED:20230424T100812Z
UID:665-1685199600-1685206800@kharada.com
SUMMARY:HARIMA NO KUNI WIND ORCHESTRA
DESCRIPTION:KEITARO HARADA conductorHIROAKI KANDA fluteMiyuko Oda : DawnMotoki Ueda : Listen to the rain | World Premiere \n\n\n\nMIKE MOWER : Concerto for Flute & Wind Orchestraand more… 出演者 \n\n\n\n指　　揮：原田慶太楼フルート：神田寛明(NHK交響楽団首席フルート奏者)吹  奏  楽：播磨国吹奏楽団 \n\n\n\nプログラム \n\n\n\n小田実結子／夜明け(Dawn) \n\n\n\n上田素生／あまやどり―Listen to the rain－(世界初演) \n\n\n\nマイク・モウワー／フルートと吹奏楽のための協奏曲 \n\n\n\nG.ホルスト／組曲「惑星」より 火星、金星、木星 \n\n\n\nJ.ウィリアムズ/「スター・ウォーズ」より メインタイトル、帝国のマーチ　ほか
URL:https://kharada.com/schedule/20230527/
LOCATION:Acrea Himeji アクリエひめじ\, Hyogo\, Japan
ATTACH;FMTTYPE=image/png:https://kharada.com/wp-content/uploads/2023/02/Himarinokuni-e1675422551320.png
END:VEVENT
BEGIN:VEVENT
DTSTART;TZID=UTC:20230528T160000
DTEND;TZID=UTC:20230528T180000
DTSTAMP:20260422T162802
CREATED:20230424T100434Z
LAST-MODIFIED:20230424T100520Z
UID:784-1685289600-1685296800@kharada.com
SUMMARY:HARIMA NO KUNI WIND ORCHESTRA
DESCRIPTION:KEITARO HARADA conductorHIROAKI KANDA fluteMiyuko Oda : DawnMotoki Ueda : Listen to the rain | World Premiere \n\n\n\nMIKE MOWER : Concerto for Flute & Wind Orchestra \n\n\n\nand more…出演者 \n\n\n\n指　　揮：原田慶太楼フルート：神田寛明(NHK交響楽団首席フルート奏者)吹  奏  楽：播磨国吹奏楽団 \n\n\n\nプログラム \n\n\n\n小田実結子／夜明け(Dawn) \n\n\n\n上田素生／あまやどり―Listen to the rain－(世界初演) \n\n\n\nマイク・モウワー／フルートと吹奏楽のための協奏曲 \n\n\n\nG.ホルスト／組曲「惑星」より 火星、金星、木星 \n\n\n\nJ.ウィリアムズ/「スター・ウォーズ」より メインタイトル、帝国のマーチ　ほか
URL:https://kharada.com/schedule/20230528/
LOCATION:Harmony Hall Fukui(ハーモニーホールふくい)\, Fukui\, Japan
ATTACH;FMTTYPE=image/png:https://kharada.com/wp-content/uploads/2023/04/20230528.png
END:VEVENT
END:VCALENDAR