BEGIN:VCALENDAR
VERSION:2.0
PRODID:-//KEITARO HARADA - ECPv6.15.20//NONSGML v1.0//EN
CALSCALE:GREGORIAN
METHOD:PUBLISH
X-WR-CALNAME:KEITARO HARADA
X-ORIGINAL-URL:https://kharada.com
X-WR-CALDESC:Events for KEITARO HARADA
REFRESH-INTERVAL;VALUE=DURATION:PT1H
X-Robots-Tag:noindex
X-PUBLISHED-TTL:PT1H
BEGIN:VTIMEZONE
TZID:UTC
BEGIN:STANDARD
TZOFFSETFROM:+0000
TZOFFSETTO:+0000
TZNAME:UTC
DTSTART:20220101T000000
END:STANDARD
END:VTIMEZONE
BEGIN:VTIMEZONE
TZID:Asia/Tokyo
BEGIN:STANDARD
TZOFFSETFROM:+0900
TZOFFSETTO:+0900
TZNAME:JST
DTSTART:20220101T000000
END:STANDARD
END:VTIMEZONE
BEGIN:VEVENT
DTSTART;TZID=UTC:20230610T140000
DTEND;TZID=UTC:20230610T170000
DTSTAMP:20260422T145017
CREATED:20230525T100505Z
LAST-MODIFIED:20230525T100546Z
UID:862-1686405600-1686416400@kharada.com
SUMMARY:TOHO ORCHESTRA ACADEMY
DESCRIPTION:Tchaikovsky : Nutcracker SuiteTchaikovsky : Sleeping Beauty SuiteTchaikovsky : Swan Lake Suite桐朋アカデミー・オーケストラ 第67回 定期演奏会指揮：原田慶太楼 \n\n\n\n日時 2023年6月10日（土）14:00開演（13:00開場）場所 オーバード・ホール演奏曲目 チャイコフスキー：バレエ音楽「くるみ割り人形」組曲 作品71aチャイコフスキー：バレエ音楽「眠りの森の美女」組曲 作品66aチャイコフスキー：バレエ音楽「白鳥の湖」組曲 作品20a
URL:https://kharada.com/schedule/20230610/
LOCATION:Aubade Hall Toyama City Art and Culture Hall オーバード・ホール 富山市芸術文化ホール\, Japan
ATTACH;FMTTYPE=image/jpeg:https://kharada.com/wp-content/uploads/2022/12/a933346-scaled-e1670071354933.jpg
END:VEVENT
BEGIN:VEVENT
DTSTART;TZID=Asia/Tokyo:20230611T150000
DTEND;TZID=Asia/Tokyo:20230611T170000
DTSTAMP:20260422T145017
CREATED:20230403T015721Z
LAST-MODIFIED:20230403T015733Z
UID:751-1686495600-1686502800@kharada.com
SUMMARY:OSAKA SYMPHONY ORCHESTRA
DESCRIPTION:大阪交響楽団宇治特別公演 コーラスとオーケストラの祭典 \n\n\n\n日時：R5年6月11日（日）会場14:15～　開演15:00～会場：宇治市文化センター大ホール主催者名：宇治市文化会館　指定管理者　アクティオ株式会社協賛：（株）大和ハウス工業、FM京都（予定）協力：宇治市音楽連盟事業の趣旨・目的：本事業は、市民合唱団員を募集し、大阪交響楽団とともに地域を盛り上げる参加型公演です。今回の公演では合唱の名曲の数々を中心に、オーケストラ音楽の魅力を広く市民に提供できるものと考えております。入場料：3000円　ペア5000円　（未就学児は入場不可）
URL:https://kharada.com/schedule/20230611/
LOCATION:Uji City Cultural Hall 宇治市文化センター\, Kyoto\, Japan
ATTACH;FMTTYPE=image/png:https://kharada.com/wp-content/uploads/2023/04/202306-Osaka-e1680486978141.png
END:VEVENT
BEGIN:VEVENT
DTSTART;TZID=Asia/Tokyo:20230616T190000
DTEND;TZID=Asia/Tokyo:20230616T213000
DTSTAMP:20260422T145017
CREATED:20221124T193446Z
LAST-MODIFIED:20230428T014757Z
UID:463-1686942000-1686951000@kharada.com
SUMMARY:KANSAI PHILHARMONIC ORCHESTRA
DESCRIPTION:KEITARO HARADA conductor \n\n\n\nMONÉ HATTORI violinVERDI La forza del destino OvertureFAZIL SAY Violin Concerto “1001 Nights in the Harem”TAKASHI YOSHIMATSU Symphony No. 3
URL:https://kharada.com/schedule/20230616/
LOCATION:The Symphony Hall ザ・シンフォニーホール\, Osaka\, Japan
ATTACH;FMTTYPE=image/png:https://kharada.com/wp-content/uploads/2022/11/20230616-e1682645916689.png
END:VEVENT
END:VCALENDAR