BEGIN:VCALENDAR
VERSION:2.0
PRODID:-//KEITARO HARADA - ECPv6.15.20//NONSGML v1.0//EN
CALSCALE:GREGORIAN
METHOD:PUBLISH
X-ORIGINAL-URL:https://kharada.com
X-WR-CALDESC:Events for KEITARO HARADA
REFRESH-INTERVAL;VALUE=DURATION:PT1H
X-Robots-Tag:noindex
X-PUBLISHED-TTL:PT1H
BEGIN:VTIMEZONE
TZID:Asia/Tokyo
BEGIN:STANDARD
TZOFFSETFROM:+0900
TZOFFSETTO:+0900
TZNAME:JST
DTSTART:20220101T000000
END:STANDARD
END:VTIMEZONE
BEGIN:VTIMEZONE
TZID:UTC
BEGIN:STANDARD
TZOFFSETFROM:+0000
TZOFFSETTO:+0000
TZNAME:UTC
DTSTART:20220101T000000
END:STANDARD
END:VTIMEZONE
BEGIN:VEVENT
DTSTART;TZID=Asia/Tokyo:20230902T140000
DTEND;TZID=Asia/Tokyo:20230902T163000
DTSTAMP:20260422T103239
CREATED:20221124T125721Z
LAST-MODIFIED:20230622T005653Z
UID:453-1693663200-1693672200@kharada.com
SUMMARY:TOKYO SYMPHONY ORCHESTRA
DESCRIPTION:KEITARO HARADA conductorMAKI MORI  sopranoMARI MORIYA sopranoTAKAOKI ONISHI baritone \n\n\n\nDVORAK : “Song to the Moon” from Rusalka \n\n\n\nPUCCINI : “Sogno di Doretta” from La Rondine \n\n\n\nJOHN ADAMS : “I am the wife of Mao Tse-Tung” from Nixon In China \n\n\n\nBERNSTEIN : “Glitter and Be Gay’” from Candide \n\n\n\nMOZART “Rivolgete a lui lo sguardo” from Così fan tutte \n\n\n\nKORNGOLD : “Tanzlied des Pierrots” from Die tote Stadt \n\n\n\nLEONCAVALLO : “Nedda! Silvio! V etot chas” duet from Pagliacci \n\n\n\nVERDI : “Madamigella Valery – end at vincera” duet from La Traviata \n\n\n\nROSSINI : “Dunque io son” from Barber of Seville \n\n\n\nMOZART : “Sull’aria” deut from Le Nozze di Figaro \n\n\n\nBELLINI : “Mira\, o Norma” duet from Norma
URL:https://kharada.com/schedule/20230902/
LOCATION:MUZA Kawasaki Symphony Hall ミューザ川崎シンフォニーホール\, 1310 Omiyacho\, Saiwai Ward\, Kawasaki\, Kanagawa\, 212-8557\, Japan
ATTACH;FMTTYPE=image/png:https://kharada.com/wp-content/uploads/2023/06/TSO-2023-09-e1687395350795.png
END:VEVENT
BEGIN:VEVENT
DTSTART;TZID=UTC:20230914T193000
DTEND;TZID=UTC:20230914T220000
DTSTAMP:20260422T103239
CREATED:20230124T011147Z
LAST-MODIFIED:20230424T104542Z
UID:612-1694719800-1694728800@kharada.com
SUMMARY:SAVANNAH PHILHARMONIC
DESCRIPTION:KEITARO HARADA conductorGABRIELA LENA FRANK Elegia AndinaDVORAK\, ANTONIN Symphony No.9\, op.95\, B.178\, E minor (From the New World)
URL:https://kharada.com/schedule/20230914/
ATTACH;FMTTYPE=image/jpeg:https://kharada.com/wp-content/uploads/2023/01/gabriela-lena-frank-pic-jpeg.jpeg
END:VEVENT
BEGIN:VEVENT
DTSTART;TZID=UTC:20230924T140000
DTEND;TZID=UTC:20230924T170000
DTSTAMP:20260422T103239
CREATED:20230422T013609Z
LAST-MODIFIED:20230422T014036Z
UID:759-1695564000-1695574800@kharada.com
SUMMARY:OSAKA PHILHARMONIC ORCHESTRA
DESCRIPTION:『スター・ウォーズ／新たなる希望』のシネマ・コンサートが大阪・東京で今年9月に開催決定！ \n\n\n\n《大阪公演》 \n\n\n\n日時：2023年9月24日（日）開場15:00 / 開演16:00 \n\n\n\n会場：フェスティバルホール \n\n\n\n《東京公演》 \n\n\n\n日時：2023年9月30日（土）開場13:00/ 開演14:00 \n\n\n\n会場：東京国際フォーラム　ホールA \n\n\n\n上映作品：スター・ウォーズ／新たなる希望（1977年公開）/英語上映・日本語字幕付き \n\n\n\n音楽：ジョン・ウィリアムズ（作曲） \n\n\n\n上演時間：2時間26分（休憩20分込） \n\n\n\nコンサート出演： \n\n\n\n指揮：原田慶太楼 \n\n\n\n演奏：大阪フィルハーモニー交響楽団（大阪公演）／東京フィルハーモニー交響楽団（東京公演）
URL:https://kharada.com/schedule/20230924/
LOCATION:Festival Hall (フェスティバルホール)\, Osaka\, Japan
ATTACH;FMTTYPE=image/jpeg:https://kharada.com/wp-content/uploads/2023/04/2023-Star-Wars.jpg
END:VEVENT
BEGIN:VEVENT
DTSTART;TZID=Asia/Tokyo:20230927T190000
DTEND;TZID=Asia/Tokyo:20230927T213000
DTSTAMP:20260422T103239
CREATED:20230703T124351Z
LAST-MODIFIED:20230703T124352Z
UID:880-1695841200-1695850200@kharada.com
SUMMARY:YOMIURI NIPPON SYMPHONY ORCHESTRA
DESCRIPTION:日時２０２３年９月２７日（水）　開演１９：００会場東京オペラシティ　コンサートホール出演指揮 原田慶太楼ピアノ 上原彩子管弦楽 読売日本交響楽団曲目スクリャービン作曲　ピアノ協奏曲　嬰ヘ短調 作品20吉松隆作曲　交響曲第5番 作品87　他
URL:https://kharada.com/schedule/20230927/
LOCATION:Tokyo Opera City 東京オペラシティ\, Tokyo\, Japan
ATTACH;FMTTYPE=image/jpeg:https://kharada.com/wp-content/uploads/2022/12/©MASATOSHI-YAMASHIRO4-scaled-e1670076440559.jpg
END:VEVENT
BEGIN:VEVENT
DTSTART;TZID=Asia/Tokyo:20230930T140000
DTEND;TZID=Asia/Tokyo:20230930T170000
DTSTAMP:20260422T103239
CREATED:20230422T014014Z
LAST-MODIFIED:20230422T014015Z
UID:764-1696082400-1696093200@kharada.com
SUMMARY:TOKYO PHILHARMONIC ORCHESTRA
DESCRIPTION:『スター・ウォーズ／新たなる希望』のシネマ・コンサートが大阪・東京で今年9月に開催決定！ \n\n\n\n \n\n\n\n《大阪公演》 \n\n\n\n日時：2023年9月24日（日）開場15:00 / 開演16:00 \n\n\n\n会場：フェスティバルホール \n\n\n\n \n\n\n\n《東京公演》 \n\n\n\n日時：2023年9月30日（土）開場13:00/ 開演14:00 \n\n\n\n会場：東京国際フォーラム　ホールA \n\n\n\n \n\n\n\n上映作品：スター・ウォーズ／新たなる希望（1977年公開）/英語上映・日本語字幕付き \n\n\n\n音楽：ジョン・ウィリアムズ（作曲） \n\n\n\n上演時間：2時間26分（休憩20分込） \n\n\n\nコンサート出演： \n\n\n\n指揮：原田慶太楼 \n\n\n\n演奏：大阪フィルハーモニー交響楽団（大阪公演）／東京フィルハーモニー交響楽団（東京公演）
URL:https://kharada.com/schedule/20230930/
LOCATION:Tokyo International Forum (東京国際フォーラム)\, Tokyo\, Japan
ATTACH;FMTTYPE=image/jpeg:https://kharada.com/wp-content/uploads/2023/04/2023-Star-Wars.jpg
END:VEVENT
BEGIN:VEVENT
DTSTART;TZID=Asia/Tokyo:20230930T183000
DTEND;TZID=Asia/Tokyo:20230930T210000
DTSTAMP:20260422T103239
CREATED:20230623T130021Z
LAST-MODIFIED:20230623T130328Z
UID:876-1696098600-1696107600@kharada.com
SUMMARY:TOKYO PHILHARMONIC ORCHESTRA
DESCRIPTION:追加公演！ \n\n\n\n \n\n\n\n『スター・ウォーズ／新たなる希望』のシネマ・コンサートが大阪・東京で今年9月に開催決定！ \n\n\n\n \n\n\n\n \n\n\n\n《東京公演》 \n\n\n\n日時：2023年9月30日（土）開場 17:30 / 開演 18:30 \n\n\n\n会場：東京国際フォーラム　ホールA \n\n\n\n \n\n\n\n上映作品：スター・ウォーズ／新たなる希望（1977年公開）/英語上映・日本語字幕付き \n\n\n\n音楽：ジョン・ウィリアムズ（作曲） \n\n\n\n上演時間：2時間26分（休憩20分込） \n\n\n\nコンサート出演： \n\n\n\n指揮：原田慶太楼 \n\n\n\n演奏：大阪フィルハーモニー交響楽団（大阪公演）／東京フィルハーモニー交響楽団（東京公演）
URL:https://kharada.com/schedule/20230930b/
LOCATION:Tokyo International Forum (東京国際フォーラム)\, Tokyo\, Japan
ATTACH;FMTTYPE=image/jpeg:https://kharada.com/wp-content/uploads/2023/04/2023-Star-Wars.jpg
END:VEVENT
END:VCALENDAR