BEGIN:VCALENDAR
VERSION:2.0
PRODID:-//KEITARO HARADA - ECPv6.15.20//NONSGML v1.0//EN
CALSCALE:GREGORIAN
METHOD:PUBLISH
X-ORIGINAL-URL:https://kharada.com
X-WR-CALDESC:Events for KEITARO HARADA
REFRESH-INTERVAL;VALUE=DURATION:PT1H
X-Robots-Tag:noindex
X-PUBLISHED-TTL:PT1H
BEGIN:VTIMEZONE
TZID:UTC
BEGIN:STANDARD
TZOFFSETFROM:+0000
TZOFFSETTO:+0000
TZNAME:UTC
DTSTART:20220101T000000
END:STANDARD
END:VTIMEZONE
BEGIN:VEVENT
DTSTART;TZID=UTC:20231007T000000
DTEND;TZID=UTC:20231007T235959
DTSTAMP:20260422T084343
CREATED:20230124T011616Z
LAST-MODIFIED:20231001T235555Z
UID:615-1696636800-1696723199@kharada.com
SUMMARY:SAVANNAH PHILHARMONIC
DESCRIPTION:SAVANNAH PHILHARMONIC &SAVANNAH PHILHARMONIC CHORUS \n\n\n\nKEITARO HARADA conductorPAUL THORNOCK chorus masterALYSHA UMPHRESS mezzo-sopranoTHE SCAD BEE SHARPS \n\n\n\n5:00 PM – 3rd Infantry Division Rock Band  \n\n\n\n6:00 PM – Savannah Music Festival’s Jazz Academy \n\n\n\n7:00 PM – Savannah Philharmonic Orchestra and Chorus\, with guest artists Alysha Umphress and The SCAD Bee Sharps \n\n\n\nRegister your creative “Around the World” themed picnic in our annual Picnic Competition to win! Registration at the SavPhil information tent on the Drayton side of Forsyth Park. \n\n\n\nPack your blankets\, chairs and picnic baskets\, and join us on the lawn for a fun and festive time at Savannah’s largest outdoor cultural event of the year. Enjoy a global variety of food truck fare\, cocktails from Collins Quarter\, raffle prizes and fantastic music celebrating the Hostess City!
URL:https://kharada.com/schedule/20231007/
ATTACH;FMTTYPE=image/jpeg:https://kharada.com/wp-content/uploads/2023/01/SAVPHIL-2324-Phil-The-Park-Web-Header-1920x1080-V3-e1696204496320.jpg
END:VEVENT
BEGIN:VEVENT
DTSTART;TZID=UTC:20231029T140000
DTEND;TZID=UTC:20231029T160000
DTSTAMP:20260422T084343
CREATED:20230428T153757Z
LAST-MODIFIED:20230916T004842Z
UID:845-1698588000-1698595200@kharada.com
SUMMARY:TOKYO SYMPHONY ORCHESTRA
DESCRIPTION:第10回八王子定期演奏会 \n\n\n\n \n\n\n\nシュトラウス：こうもり序曲サティ/ドビュッシー編：ジムノペティ　第1番小田実結子：うまれかわりの旅～出羽の山々に想いを馳せて～（2022）ビゼー：カルメン組曲　第1番シュトラウス：ラデツキー行進曲グリーグ：ペール・ギュント組曲第1番ラヴェル：亡き王女のためのパヴァーヌラヴェル：ボレロ
URL:https://kharada.com/schedule/20231029/
LOCATION:J:COM Hall Hachioji (J:COMホール八王子)\, Tokyo\, Japan
ATTACH;FMTTYPE=image/jpeg:https://kharada.com/wp-content/uploads/2023/09/20230915_202201-scaled-e1694825243846.jpg
END:VEVENT
END:VCALENDAR