BEGIN:VCALENDAR
VERSION:2.0
PRODID:-//KEITARO HARADA - ECPv6.15.20//NONSGML v1.0//EN
CALSCALE:GREGORIAN
METHOD:PUBLISH
X-ORIGINAL-URL:https://kharada.com
X-WR-CALDESC:Events for KEITARO HARADA
REFRESH-INTERVAL;VALUE=DURATION:PT1H
X-Robots-Tag:noindex
X-PUBLISHED-TTL:PT1H
BEGIN:VTIMEZONE
TZID:Asia/Tokyo
BEGIN:STANDARD
TZOFFSETFROM:+0900
TZOFFSETTO:+0900
TZNAME:JST
DTSTART:20220101T000000
END:STANDARD
END:VTIMEZONE
BEGIN:VTIMEZONE
TZID:America/Denver
BEGIN:DAYLIGHT
TZOFFSETFROM:-0700
TZOFFSETTO:-0600
TZNAME:MDT
DTSTART:20220313T090000
END:DAYLIGHT
BEGIN:STANDARD
TZOFFSETFROM:-0600
TZOFFSETTO:-0700
TZNAME:MST
DTSTART:20221106T080000
END:STANDARD
BEGIN:DAYLIGHT
TZOFFSETFROM:-0700
TZOFFSETTO:-0600
TZNAME:MDT
DTSTART:20230312T090000
END:DAYLIGHT
BEGIN:STANDARD
TZOFFSETFROM:-0600
TZOFFSETTO:-0700
TZNAME:MST
DTSTART:20231105T080000
END:STANDARD
BEGIN:DAYLIGHT
TZOFFSETFROM:-0700
TZOFFSETTO:-0600
TZNAME:MDT
DTSTART:20240310T090000
END:DAYLIGHT
BEGIN:STANDARD
TZOFFSETFROM:-0600
TZOFFSETTO:-0700
TZNAME:MST
DTSTART:20241103T080000
END:STANDARD
END:VTIMEZONE
BEGIN:VTIMEZONE
TZID:UTC
BEGIN:STANDARD
TZOFFSETFROM:+0000
TZOFFSETTO:+0000
TZNAME:UTC
DTSTART:20220101T000000
END:STANDARD
END:VTIMEZONE
BEGIN:VEVENT
DTSTART;TZID=Asia/Tokyo:20231102T190000
DTEND;TZID=Asia/Tokyo:20231102T213000
DTSTAMP:20260420T070518
CREATED:20230909T191509Z
LAST-MODIFIED:20230915T183043Z
UID:903-1698951600-1698960600@kharada.com
SUMMARY:OSAKA KYOIKU UNIVERSITY
DESCRIPTION:KEITARO HARADA conductorAKIRA MIZUTANI violinVERDI La forza del destino OvertureBRAHMS Violin Concerto DVORAK Symphony No. 9大阪教育大学教育協働学科芸術表現専攻音楽表現コース　第67回定期演奏会 \n\n\n\n2023年11月2日(木) 19:00 開演 \n\n\n\n[指揮]原田慶太楼[ヴァイオリン]水谷晃[管弦楽]大阪教育大学シンフォニーオーケストラブラームス：ヴァイオリン協奏曲ドヴォルザーク：交響曲 第9番「新世界より」　　ほか
URL:https://kharada.com/schedule/20231102/
LOCATION:The Symphony Hall ザ・シンフォニーホール\, Osaka\, Japan
ATTACH;FMTTYPE=image/jpeg:https://kharada.com/wp-content/uploads/2023/09/第67回_定期演奏会チラシ0828-scaled-e1694802483392.jpg
END:VEVENT
BEGIN:VEVENT
DTSTART;TZID=America/Denver:20231110T193000
DTEND;TZID=America/Denver:20231110T220000
DTSTAMP:20260420T070518
CREATED:20230128T204742Z
LAST-MODIFIED:20230128T204743Z
UID:640-1699644600-1699653600@kharada.com
SUMMARY:TUCSON SYMPHONY ORCHESTRA
DESCRIPTION:KEITARO HARADA conductorDAVID FUNG piano \n\n\n\nFrank Ticheli: Blue ShadesMaurice Ravel: Piano Concerto in G MajorAntonín Dvořák: Symphony No. 8
URL:https://kharada.com/schedule/20231110/
LOCATION:Linda Ronstadt Music Hall\, 260 S Church Ave\, Tucson\, Arizona\, 85701\, United States
ATTACH;FMTTYPE=image/jpeg:https://kharada.com/wp-content/uploads/2022/12/©MASATOSHI-YAMASHIRO13-scaled-e1670076458733.jpg
END:VEVENT
BEGIN:VEVENT
DTSTART;TZID=America/Denver:20231112T140000
DTEND;TZID=America/Denver:20231112T163000
DTSTAMP:20260420T070518
CREATED:20230128T205100Z
LAST-MODIFIED:20230128T205100Z
UID:644-1699797600-1699806600@kharada.com
SUMMARY:TUCSON SYMPHONY ORCHESTRA
DESCRIPTION:KEITARO HARADA conductorDAVID FUNG piano \n\n\n\n \n\n\n\nFrank Ticheli: Blue ShadesMaurice Ravel: Piano Concerto in G MajorAntonín Dvořák: Symphony No. 8
URL:https://kharada.com/schedule/20231112/
LOCATION:Linda Ronstadt Music Hall\, 260 S Church Ave\, Tucson\, Arizona\, 85701\, United States
ATTACH;FMTTYPE=image/jpeg:https://kharada.com/wp-content/uploads/2022/11/kh-Atsushi-Yokota2-scaled-e1668867357605.jpg
END:VEVENT
BEGIN:VEVENT
DTSTART;TZID=UTC:20231123T150000
DTEND;TZID=UTC:20231123T170000
DTSTAMP:20260420T070518
CREATED:20231003T011608Z
LAST-MODIFIED:20231003T011728Z
UID:940-1700751600-1700758800@kharada.com
SUMMARY:SUPER CLASSIC ORCHESTRA
DESCRIPTION:指揮　原田慶太楼ヴァイオリン（伊福部）：豊嶋泰嗣ヴァイオリン（ブラームス）：川久保賜紀チェロ：遠藤真理ピアノ：清水和音管弦楽／スーパー・クラシック・オーケストラ \n\n\n\n伊福部昭: ヴァイオリンと管弦楽のための協奏風狂詩曲ラフマニノフ：ピアノ協奏曲第2番ブラームス：ヴァイオリンとチェロのための二重協奏曲
URL:https://kharada.com/schedule/20231123/
LOCATION:Sapporo Concert Hall ‘Kitara’ 札幌コンサートホール Kitara\, Sapporo\, Japan
ATTACH;FMTTYPE=image/png:https://kharada.com/wp-content/uploads/2023/10/Screen-Shot-2023-10-02-at-9.12.33-PM-e1696295649729.png
END:VEVENT
END:VCALENDAR