BEGIN:VCALENDAR
VERSION:2.0
PRODID:-//KEITARO HARADA - ECPv6.15.20//NONSGML v1.0//EN
CALSCALE:GREGORIAN
METHOD:PUBLISH
X-ORIGINAL-URL:https://kharada.com
X-WR-CALDESC:Events for KEITARO HARADA
REFRESH-INTERVAL;VALUE=DURATION:PT1H
X-Robots-Tag:noindex
X-PUBLISHED-TTL:PT1H
BEGIN:VTIMEZONE
TZID:America/New_York
BEGIN:DAYLIGHT
TZOFFSETFROM:-0500
TZOFFSETTO:-0400
TZNAME:EDT
DTSTART:20230312T070000
END:DAYLIGHT
BEGIN:STANDARD
TZOFFSETFROM:-0400
TZOFFSETTO:-0500
TZNAME:EST
DTSTART:20231105T060000
END:STANDARD
BEGIN:DAYLIGHT
TZOFFSETFROM:-0500
TZOFFSETTO:-0400
TZNAME:EDT
DTSTART:20240310T070000
END:DAYLIGHT
BEGIN:STANDARD
TZOFFSETFROM:-0400
TZOFFSETTO:-0500
TZNAME:EST
DTSTART:20241103T060000
END:STANDARD
BEGIN:DAYLIGHT
TZOFFSETFROM:-0500
TZOFFSETTO:-0400
TZNAME:EDT
DTSTART:20250309T070000
END:DAYLIGHT
BEGIN:STANDARD
TZOFFSETFROM:-0400
TZOFFSETTO:-0500
TZNAME:EST
DTSTART:20251102T060000
END:STANDARD
END:VTIMEZONE
BEGIN:VTIMEZONE
TZID:UTC
BEGIN:STANDARD
TZOFFSETFROM:+0000
TZOFFSETTO:+0000
TZNAME:UTC
DTSTART:20230101T000000
END:STANDARD
END:VTIMEZONE
BEGIN:VTIMEZONE
TZID:Asia/Tokyo
BEGIN:STANDARD
TZOFFSETFROM:+0900
TZOFFSETTO:+0900
TZNAME:JST
DTSTART:20230101T000000
END:STANDARD
END:VTIMEZONE
BEGIN:VEVENT
DTSTART;TZID=America/New_York:20240210T000000
DTEND;TZID=America/New_York:20240210T235959
DTSTAMP:20260420T022525
CREATED:20230124T012419Z
LAST-MODIFIED:20240204T051742Z
UID:623-1707523200-1707609599@kharada.com
SUMMARY:SAVANNAH PHILHARMONIC
DESCRIPTION:KEITARO HARADA conductorJESSIE MONTGOMERY Soul ForceTCHAIKOVSKY Romeo and Juliet Overture FantasySCRIABIN Symphony No. 2 Op. 29\, C minor
URL:https://kharada.com/schedule/20240210/
LOCATION:Ohio
ATTACH;FMTTYPE=image/jpeg:https://kharada.com/wp-content/uploads/2023/01/JesseMont-1024x716-1.jpeg
END:VEVENT
BEGIN:VEVENT
DTSTART;TZID=UTC:20240212T000000
DTEND;TZID=UTC:20240212T235959
DTSTAMP:20260420T022525
CREATED:20231002T143218Z
LAST-MODIFIED:20240204T051729Z
UID:933-1707696000-1707782399@kharada.com
SUMMARY:MACON-MERCER SYMPHONY ORCHESTRA
DESCRIPTION:Keitaro Harada\, guest conductor Verdi La forza del destino: OvertureTakashi Yoshimatsu Atom Hearts Club Suite No. 1Ginastera Four Dances from “Estancia\,” Op. 8aArturo Márquez Danzón No. 2Ravel Boléro \n\n\n\nWelcome back Mercer alumnus Keitaro Harada\, artistic director of the Savannah Philarmonic and winner of the 2023 Sir Georg Solti Conducting Award\, for the most romantic date in town before Valentine’s Day. Swoon over an eclectic international program\, with Maestro Harada leading the MMSO through pieces from Italian\, French\, Mexican\, Japanese\, and Argentinean composers including Ravel’s unforgettable dance piece Boléro.
URL:https://kharada.com/schedule/20240212/
LOCATION:The Grand Opera House\, Macon\, Georgia\, United States
ATTACH;FMTTYPE=image/png:https://kharada.com/wp-content/uploads/2023/10/Screen-Shot-2023-10-02-at-10.28.35-AM-e1696257052440.png
END:VEVENT
BEGIN:VEVENT
DTSTART;TZID=UTC:20240216T000000
DTEND;TZID=UTC:20240216T235959
DTSTAMP:20260420T022525
CREATED:20231230T222627Z
LAST-MODIFIED:20231230T223906Z
UID:993-1708041600-1708127999@kharada.com
SUMMARY:CHARLOTTE SYMPHONY
DESCRIPTION:Mozart’s brilliant Symphony No. 41\, nicknamed “Jupiter\,” anchors a program with Wieniawski’s richly melodic Concerto for Violin No. 2\, performed by Concertmaster Calin Ovidiu Lupanu. \n\n\n\nKeitaro Harada\, conductorCalin Ovidiu Lupanu\, violin \n\n\n\nKODÁLY Dances of GalántaWIENIAWSKI Concerto for Violin No. 2MOZART Symphony No. 41 (“Jupiter”)
URL:https://kharada.com/schedule/20240216/
LOCATION:Knight Theater\, 430 S. Tryon St\, Charlotte\, North Carolina\, 28202\, United States
ATTACH;FMTTYPE=image/jpeg:https://kharada.com/wp-content/uploads/2022/11/kh-T.Tairadate_TSO-6-e1668867328621.jpg
END:VEVENT
BEGIN:VEVENT
DTSTART;TZID=UTC:20240217T000000
DTEND;TZID=UTC:20240217T235959
DTSTAMP:20260420T022525
CREATED:20231230T223650Z
LAST-MODIFIED:20231230T223651Z
UID:1000-1708128000-1708214399@kharada.com
SUMMARY:CHARLOTTE SYMPHONY
DESCRIPTION:Mozart’s brilliant Symphony No. 41\, nicknamed “Jupiter\,” anchors a program with Wieniawski’s richly melodic Concerto for Violin No. 2\, performed by Concertmaster Calin Ovidiu Lupanu. \n\n\n\nKeitaro Harada\, conductorCalin Ovidiu Lupanu\, violin \n\n\n\nKODÁLY Dances of GalántaWIENIAWSKI Concerto for Violin No. 2MOZART Symphony No. 41 (“Jupiter”)
URL:https://kharada.com/schedule/20240217/
LOCATION:Knight Theater\, 430 S. Tryon St\, Charlotte\, North Carolina\, 28202\, United States
ATTACH;FMTTYPE=image/jpeg:https://kharada.com/wp-content/uploads/2022/12/©MASATOSHI-YAMASHIRO4-scaled-e1670076440559.jpg
END:VEVENT
BEGIN:VEVENT
DTSTART;TZID=UTC:20240218T000000
DTEND;TZID=UTC:20240218T235959
DTSTAMP:20260420T022525
CREATED:20231230T223828Z
LAST-MODIFIED:20240204T051714Z
UID:1002-1708214400-1708300799@kharada.com
SUMMARY:CHARLOTTE SYMPHONY
DESCRIPTION:Mozart’s brilliant Symphony No. 41\, nicknamed “Jupiter\,” anchors a program with Wieniawski’s richly melodic Concerto for Violin No. 2\, performed by Concertmaster Calin Ovidiu Lupanu. \n\n\n\nKeitaro Harada\, conductorCalin Ovidiu Lupanu\, violin \n\n\n\nKODÁLY Dances of GalántaWIENIAWSKI Concerto for Violin No. 2MOZART Symphony No. 41 (“Jupiter”)
URL:https://kharada.com/schedule/20240218/
LOCATION:Knight Theater\, 430 S. Tryon St\, Charlotte\, North Carolina\, 28202\, United States
ATTACH;FMTTYPE=image/jpeg:https://kharada.com/wp-content/uploads/2023/01/TSO-calendar-1.jpg
END:VEVENT
BEGIN:VEVENT
DTSTART;TZID=Asia/Tokyo:20240225T000000
DTEND;TZID=Asia/Tokyo:20240225T235959
DTSTAMP:20260420T022525
CREATED:20230903T122306Z
LAST-MODIFIED:20240204T051508Z
UID:894-1708819200-1708905599@kharada.com
SUMMARY:PANDA WIND ORCHESTRA
DESCRIPTION:KEITARO HARADA conductor \n\n\n\nKOHEI UENO saxophone水戸市民会館　ブラスミュージックの日 with ぱんだウィンドオーケストラ
URL:https://kharada.com/schedule/20240225/
LOCATION:Mito City Civic Center 水戸市民会館\, 1-7-1\, Izumicho\, Mito-city\, Ibaraki\, 310-0026
ATTACH;FMTTYPE=image/jpeg:https://kharada.com/wp-content/uploads/2023/09/20240225.jpeg
END:VEVENT
END:VCALENDAR