BEGIN:VCALENDAR
VERSION:2.0
PRODID:-//KEITARO HARADA - ECPv6.15.20//NONSGML v1.0//EN
CALSCALE:GREGORIAN
METHOD:PUBLISH
X-ORIGINAL-URL:https://kharada.com
X-WR-CALDESC:Events for KEITARO HARADA
REFRESH-INTERVAL;VALUE=DURATION:PT1H
X-Robots-Tag:noindex
X-PUBLISHED-TTL:PT1H
BEGIN:VTIMEZONE
TZID:UTC
BEGIN:STANDARD
TZOFFSETFROM:+0000
TZOFFSETTO:+0000
TZNAME:UTC
DTSTART:20230101T000000
END:STANDARD
END:VTIMEZONE
BEGIN:VTIMEZONE
TZID:Asia/Tokyo
BEGIN:STANDARD
TZOFFSETFROM:+0900
TZOFFSETTO:+0900
TZNAME:JST
DTSTART:20230101T000000
END:STANDARD
END:VTIMEZONE
BEGIN:VEVENT
DTSTART;TZID=UTC:20240315T000000
DTEND;TZID=UTC:20240315T235959
DTSTAMP:20260420T005708
CREATED:20240204T053117Z
LAST-MODIFIED:20240204T053118Z
UID:1014-1710460800-1710547199@kharada.com
SUMMARY:DREAM ORCHESTRA
DESCRIPTION:Music of Nino Rota\, Max Steiner\, John Williams and Antonin Dvorak
URL:https://kharada.com/schedule/20240315/
LOCATION:Ohio
ATTACH;FMTTYPE=image/jpeg:https://kharada.com/wp-content/uploads/2024/02/20240315-1.jpg
END:VEVENT
BEGIN:VEVENT
DTSTART;TZID=Asia/Tokyo:20240320T000000
DTEND;TZID=Asia/Tokyo:20240320T235959
DTSTAMP:20260420T005708
CREATED:20231129T003139Z
LAST-MODIFIED:20240204T051455Z
UID:985-1710892800-1710979199@kharada.com
SUMMARY:OSAKA PHILHARMONIC
DESCRIPTION:KEITARO HARADA conductorSHINYA KIYOZUKA piano \n\n\n\nRACHMANINOFF Piano Concerto No. 2TCHAIKOVSKY Symphony No. 5 \n\n\n\n \n\n\n\nザ･シンフォニー特選コンサート Vol.32原田慶太楼×清塚信也×大阪フィルハーモニー交響楽団 \n\n\n\nラフマニノフ：ピアノ協奏曲 第2番 ハ短調 op.18 \n\n\n\nチャイコフスキー：交響曲 第5番 ホ短調 op.64 \n\n\n\n \n\n\n\n　クラシック界の最先端を走る最も“旬”な音楽家２人が、「ザ・シンフォニー特選コンサート」に初登場です！ワールドワイドな活躍で飛ぶ鳥を落とす勢いの俊英指揮者 原田慶太楼、クラシックだけでなくすべての音楽を手中に収めてピアノで紡ぎ出すピアニスト 清塚信也。この２人の友情と絆から今回の共演がうまれました。　ピアニスト・作曲・編曲・執筆・俳優・司会者など、様々なフィールドで才能を発揮し続けている清塚信也が、ピアニストとしての原点を昇華させます。モスクワ音楽院に留学、ロシアの名伯楽セルゲイ・ドレンスキーに学んだ清塚が、身をもって体感したであろうラフマニノフの息遣いをどうぞ感じてください。　そして同じく、ロシアで指揮法を学んだ原田慶太楼が大阪の老舗オーケストラ 大阪フィルと真剣勝負するのは、チャイコフスキーの大作交響曲第5番。オーケストラの輝きが最大限に発揮されるこの作品で、原田慶太楼×大阪フィルの化学反応が楽しみでなりません！　ラフマニノフのピアノ協奏曲第2番、チャイコフスキーの交響曲第5番という名曲中の名曲を、クラシック界に旋風を巻き起こしている時代の寵児２人がどのように魅せてくれるのか！？どうぞご期待ください。
URL:https://kharada.com/schedule/20240320/
LOCATION:The Symphony Hall ザ・シンフォニーホール\, Osaka\, Japan
ATTACH;FMTTYPE=image/jpeg:https://kharada.com/wp-content/uploads/2023/11/2024-03-Osaka-Phil.jpeg
END:VEVENT
BEGIN:VEVENT
DTSTART;TZID=UTC:20240323T000000
DTEND;TZID=UTC:20240323T235959
DTSTAMP:20260420T005708
CREATED:20230424T103730Z
LAST-MODIFIED:20240204T051445Z
UID:809-1711152000-1711238399@kharada.com
SUMMARY:MT. FUJI PHILHARMONIC ORCHESTRA
DESCRIPTION:KEITARO HARADA conductorHAMAO FUJIWARA violinTCHAIKOVSKY Romeo & Juliet Fantasy OvertureTCHAIKOVSKY Sleeping Beauty SuiteTCHAIKOVSKY Violin Concerto【特別演奏会】清水銀行 Presentsオーケストラの日2024　名曲コンサート話題の原田慶太楼指揮で贈るオール・チャイコフスキー・プログラム。当楽団ゲストソロコンサートマスターの藤原浜雄がヴァイオリン協奏曲を奏でる！ \n\n\n\n●日時：2024年3月23日（土）14:00開演（13:00開場） \n\n\n\n●会場：静岡市清水文化会館マリナート　大ホール \n\n\n\n●出演　指揮：原田慶太楼　ヴァイオリン：藤原浜雄 \n\n\n\n●プログラム　チャイコフスキー ／　 幻想序曲「ロメオとジュリエット」　 組曲「眠れる森の美女」op.66a　 ヴァイオリン協奏曲 ニ長調 op.35
URL:https://kharada.com/schedule/20240323/
LOCATION:Shimizu Cultural Center Marinart (静岡市清水文化会館 マリナート)\, Shizuoka\, Japan
ATTACH;FMTTYPE=image/jpeg:https://kharada.com/wp-content/uploads/2023/12/20231227_091350.jpg
END:VEVENT
BEGIN:VEVENT
DTSTART;TZID=Asia/Tokyo:20240325T000000
DTEND;TZID=Asia/Tokyo:20240325T235959
DTSTAMP:20260420T005708
CREATED:20230903T072845Z
LAST-MODIFIED:20240204T051433Z
UID:886-1711324800-1711411199@kharada.com
SUMMARY:TOKYO SYMPHONY ORCHESTRA
DESCRIPTION:KEITARO HARADA conductorMASAYA KAMEI pianoTCHAIKOVSKY Eugene Onegin PolonaisePROKOFIEV  Piano Concerto No. 3GERSHWIN Piano Concerto \n\n\n\n \n\n\n\n東京交響楽団 特別演奏会《 原田慶太楼 × 亀井聖矢 》 \n\n\n\nコンチェルト・ナイト◇2024年3月25日（月）19:00東京芸術劇場コンサートホール \n\n\n\n指揮＝原田慶太楼　ピアノ＝亀井聖矢 \n\n\n\nチャイコフスキー：歌劇「エフゲニー・オネーギン」から ポロネーズプロコフィエフ：ピアノ協奏曲 第3番 ハ長調 op.26ガーシュウィン：ピアノ協奏曲 ヘ調
URL:https://kharada.com/schedule/20240325/
LOCATION:Tokyo Metropolitan Theatre 東京芸術劇場\, Tokyo\, Japan
ATTACH;FMTTYPE=image/jpeg:https://kharada.com/wp-content/uploads/2023/09/20240325-e1693725619413.jpeg
END:VEVENT
BEGIN:VEVENT
DTSTART;TZID=Asia/Tokyo:20240326T000000
DTEND;TZID=Asia/Tokyo:20240326T235959
DTSTAMP:20260420T005708
CREATED:20230903T073202Z
LAST-MODIFIED:20240204T051421Z
UID:888-1711411200-1711497599@kharada.com
SUMMARY:TOKYO SYMPHONY ORCHESTRA
DESCRIPTION:KEITARO HARADA conductorMASAYA KAMEI pianoTCHAIKOVSKY Eugene Onegin PolonaisePROKOFIEV Piano Concerto No. 3CHOPIN Piano Concerto No. 1 \n\n\n\n東京交響楽団 特別演奏会《 原田慶太楼 × 亀井聖矢 》 \n\n\n\nコンチェルト・アフタヌーン◇2024年3月26日（火）14:00横浜みなとみらいホール \n\n\n\n指揮＝原田慶太楼　ピアノ＝亀井聖矢 \n\n\n\nチャイコフスキー：歌劇「エフゲニー・オネーギン」から ポロネーズプロコフィエフ：ピアノ協奏曲 第3番 ハ長調 op.26ショパン：ピアノ協奏曲 第1番 ホ短調 op.11
URL:https://kharada.com/schedule/20240326/
LOCATION:Yokohama Minato Mirai Hall 横浜みなとみらいホール\, Yokohama\, Kanagawa\, Japan
ATTACH;FMTTYPE=image/jpeg:https://kharada.com/wp-content/uploads/2023/09/20240326-e1693725607656.jpeg
END:VEVENT
BEGIN:VEVENT
DTSTART;TZID=UTC:20240326T000000
DTEND;TZID=UTC:20240326T235959
DTSTAMP:20260420T005708
CREATED:20240226T100109Z
LAST-MODIFIED:20240226T100420Z
UID:1033-1711411200-1711497599@kharada.com
SUMMARY:NHK-FM マエストロ慶太楼の長電話
DESCRIPTION:3月26-27日 21:45～ NHKFM 2夜連続生放送 \n\n\n\n人気指揮者・原田慶太楼が “アニバーサリー”を迎えた1曲をテーマにおしゃべり。作曲当時の人々の暮らしとは？ヒットを飛ばした「発想法」とは？演奏者の苦労って？気になることはジャンル問わず、その道のプロに「生電話」！誰に電話をかけるかはトーク次第？！　ときにはリスナーの皆さんにかかってくることも？!たくさんの人と“長電話”しながら、音楽をあらゆる角度から楽しむ＆深めるトーク番組です。
URL:https://kharada.com/schedule/20240326-fm/
LOCATION:Ohio
ATTACH;FMTTYPE=image/jpeg:https://kharada.com/wp-content/uploads/2024/02/NHKFM.jpg
END:VEVENT
BEGIN:VEVENT
DTSTART;TZID=UTC:20240327T000000
DTEND;TZID=UTC:20240327T235959
DTSTAMP:20260420T005708
CREATED:20240226T100416Z
LAST-MODIFIED:20240226T100418Z
UID:1038-1711497600-1711583999@kharada.com
SUMMARY:NHK-FM マエストロ慶太楼の長電話
DESCRIPTION:3月26-27日 21:45～ NHKFM 2夜連続生放送 \n\n\n\n人気指揮者・原田慶太楼が “アニバーサリー”を迎えた1曲をテーマにおしゃべり。作曲当時の人々の暮らしとは？ヒットを飛ばした「発想法」とは？演奏者の苦労って？気になることはジャンル問わず、その道のプロに「生電話」！誰に電話をかけるかはトーク次第？！　ときにはリスナーの皆さんにかかってくることも？!たくさんの人と“長電話”しながら、音楽をあらゆる角度から楽しむ＆深めるトーク番組です。
URL:https://kharada.com/schedule/20240327-fm/
LOCATION:Ohio
ATTACH;FMTTYPE=image/jpeg:https://kharada.com/wp-content/uploads/2024/02/NHKFM.jpg
END:VEVENT
BEGIN:VEVENT
DTSTART;TZID=Asia/Tokyo:20240330T000000
DTEND;TZID=Asia/Tokyo:20240330T235959
DTSTAMP:20260420T005708
CREATED:20221124T125018Z
LAST-MODIFIED:20240204T051346Z
UID:450-1711756800-1711843199@kharada.com
SUMMARY:TOKYO SYMPHONY ORCHESTRA
DESCRIPTION:KEITARO HARADA conductorOLGA KERN pianoDAI FUJIKURA  Wavering World | National PremiereSIBELIUS Symphony No. 7RACHMANINOFF Piano Concerto No. 2
URL:https://kharada.com/schedule/20240330/
LOCATION:Suntory Hall サントリーホール\, Tokyo\, Japan
ATTACH;FMTTYPE=image/jpeg:https://kharada.com/wp-content/uploads/2023/07/TokyoSymphonyOrchestra-Keitaro-Olga-scaled-e1689154185377.jpg
END:VEVENT
END:VCALENDAR