BEGIN:VCALENDAR
VERSION:2.0
PRODID:-//KEITARO HARADA - ECPv6.15.20//NONSGML v1.0//EN
CALSCALE:GREGORIAN
METHOD:PUBLISH
X-WR-CALNAME:KEITARO HARADA
X-ORIGINAL-URL:https://kharada.com
X-WR-CALDESC:Events for KEITARO HARADA
REFRESH-INTERVAL;VALUE=DURATION:PT1H
X-Robots-Tag:noindex
X-PUBLISHED-TTL:PT1H
BEGIN:VTIMEZONE
TZID:Asia/Tokyo
BEGIN:STANDARD
TZOFFSETFROM:+0900
TZOFFSETTO:+0900
TZNAME:JST
DTSTART:20230101T000000
END:STANDARD
END:VTIMEZONE
BEGIN:VTIMEZONE
TZID:America/New_York
BEGIN:DAYLIGHT
TZOFFSETFROM:-0500
TZOFFSETTO:-0400
TZNAME:EDT
DTSTART:20230312T070000
END:DAYLIGHT
BEGIN:STANDARD
TZOFFSETFROM:-0400
TZOFFSETTO:-0500
TZNAME:EST
DTSTART:20231105T060000
END:STANDARD
BEGIN:DAYLIGHT
TZOFFSETFROM:-0500
TZOFFSETTO:-0400
TZNAME:EDT
DTSTART:20240310T070000
END:DAYLIGHT
BEGIN:STANDARD
TZOFFSETFROM:-0400
TZOFFSETTO:-0500
TZNAME:EST
DTSTART:20241103T060000
END:STANDARD
BEGIN:DAYLIGHT
TZOFFSETFROM:-0500
TZOFFSETTO:-0400
TZNAME:EDT
DTSTART:20250309T070000
END:DAYLIGHT
BEGIN:STANDARD
TZOFFSETFROM:-0400
TZOFFSETTO:-0500
TZNAME:EST
DTSTART:20251102T060000
END:STANDARD
END:VTIMEZONE
BEGIN:VTIMEZONE
TZID:UTC
BEGIN:STANDARD
TZOFFSETFROM:+0000
TZOFFSETTO:+0000
TZNAME:UTC
DTSTART:20230101T000000
END:STANDARD
END:VTIMEZONE
BEGIN:VEVENT
DTSTART;TZID=Asia/Tokyo:20240608T000000
DTEND;TZID=Asia/Tokyo:20240608T235959
DTSTAMP:20260419T200217
CREATED:20221203T091754Z
LAST-MODIFIED:20240427T135326Z
UID:504-1717804800-1717891199@kharada.com
SUMMARY:NHK SYMPHONY ORCHESTRA
DESCRIPTION:KEITARO HARADA conductorKYOHEI SORITA pianoSCRIABIN Rêverie\, op.24SCRIABIN Concerto\, Piano\, op.20\, F-sharp minorSCRIABIN Symphony No.2\, op.29\, C minor
URL:https://kharada.com/schedule/20240608/
LOCATION:NHK Hall NHKホール\, Tokyo\, Japan
ATTACH;FMTTYPE=image/jpeg:https://kharada.com/wp-content/uploads/2022/12/a932595-scaled-e1670071245541.jpg
END:VEVENT
BEGIN:VEVENT
DTSTART;TZID=Asia/Tokyo:20240609T000000
DTEND;TZID=Asia/Tokyo:20240609T235959
DTSTAMP:20260419T200217
CREATED:20221203T092015Z
LAST-MODIFIED:20240427T135329Z
UID:508-1717891200-1717977599@kharada.com
SUMMARY:NHK SYMPHONY ORCHESTRA
DESCRIPTION:KEITARO HARADA conductorKYOHEI SORITA pianoSCRIABIN Rêverie\, op.24SCRIABIN Concerto\, Piano\, op.20\, F-sharp minorSCRIABIN Symphony No.2\, op.29\, C minor
URL:https://kharada.com/schedule/20240609/
LOCATION:NHK Hall NHKホール\, Tokyo\, Japan
ATTACH;FMTTYPE=image/jpeg:https://kharada.com/wp-content/uploads/2022/12/a933346-scaled-e1670071354933.jpg
END:VEVENT
BEGIN:VEVENT
DTSTART;TZID=America/New_York:20240615T000000
DTEND;TZID=America/New_York:20240615T235959
DTSTAMP:20260419T200217
CREATED:20230124T013420Z
LAST-MODIFIED:20240204T051004Z
UID:629-1718409600-1718495999@kharada.com
SUMMARY:SAVANNAH PHILHARMONIC
DESCRIPTION:RHAPSODY IN BLUE AT 100!With The Fabulous Equinox OrchestraSaturday\, June 15\, 2024 I 7:30pmLucas Theatre for the Arts \n\n\n\nKEITARO HARADA conductorTHE FABULOUS EQUINOX ORCHESTRA \n\n\n\nProgram includes: \n\n\n\nGERSHWIN Rhapsody in BlueIn its original dance band version\, as heard at the 1924 premiere\, plus other Gershwin favorites!
URL:https://kharada.com/schedule/20240615/
LOCATION:Lucas Theatre For the Arts\, 32 Abercorn St\, Savannah\, GA\, 31401\, United States
ATTACH;FMTTYPE=image/jpeg:https://kharada.com/wp-content/uploads/2023/01/SAVPHIL-2324-8-Rhapsody-In-Blue.jpeg
END:VEVENT
BEGIN:VEVENT
DTSTART;TZID=UTC:20240629T000000
DTEND;TZID=UTC:20240629T235959
DTSTAMP:20260419T200217
CREATED:20240427T141245Z
LAST-MODIFIED:20240427T144318Z
UID:1187-1719619200-1719705599@kharada.com
SUMMARY:TOKYO SYMPHONY ORCHESTRA
DESCRIPTION:Keitaro Harada\, ConductorShiori Sakurai\, Navigator / ScriptMari Ohki\, Pipe OrganNoriko Ogawa\, PianoTokyo Symphony OrchestraMUZA’s DAY Special ChorusMona Ichikawa\, ProducerTeruyoshi Mori\, Producer–Suppé: Light cavalryMozart: Le nozze di Figaro\, K. 492 – OvertureBuxtehude: Prelude in C major\, BuxWV 137Ngô Hoàng Quân: Lý hoài nam (Vietnamese folk song)Arirang (Korean folk song / Choi\, Sung arr.)Jasmine Flower (Chinese folk song / Natsumi Yamamoto arr.)Hurst: Swagman’s PromenadeBernstein: “West Side Story” SelectionsElgar: Pomp and Circumstance\, op.39 No.1Yoshihiro Kanno: Hello and Thank You ~around the Grobe~ \n\n\n\n川崎市市制100周年記念事業　ミューザ川崎シンフォニーホール開館20周年記念公演「ミューザの日」アニバーサリー・コンサートの若きプロデューサー、市川モナ（高校3年・川崎市在住）・森照覚（昭和音楽大学3年）。 \n\n\n\n指揮：原田慶太楼ナビゲーター・脚本：桜井しおりパイプオルガン：大木麻理ピアノ：小川典子管弦楽：東京交響楽団合唱：ミューザの日スペシャル合唱団
URL:https://kharada.com/schedule/240629/
LOCATION:Ohio
ATTACH;FMTTYPE=image/png:https://kharada.com/wp-content/uploads/2024/04/240629-TSO-e1714227089593.png
END:VEVENT
END:VCALENDAR