BEGIN:VCALENDAR
VERSION:2.0
PRODID:-//KEITARO HARADA - ECPv6.15.20//NONSGML v1.0//EN
CALSCALE:GREGORIAN
METHOD:PUBLISH
X-ORIGINAL-URL:https://kharada.com
X-WR-CALDESC:Events for KEITARO HARADA
REFRESH-INTERVAL;VALUE=DURATION:PT1H
X-Robots-Tag:noindex
X-PUBLISHED-TTL:PT1H
BEGIN:VTIMEZONE
TZID:UTC
BEGIN:STANDARD
TZOFFSETFROM:+0000
TZOFFSETTO:+0000
TZNAME:UTC
DTSTART:20230101T000000
END:STANDARD
END:VTIMEZONE
BEGIN:VEVENT
DTSTART;TZID=UTC:20240710T000000
DTEND;TZID=UTC:20240710T235959
DTSTAMP:20260419T184007
CREATED:20240403T021604Z
LAST-MODIFIED:20240403T021755Z
UID:1123-1720569600-1720655999@kharada.com
SUMMARY:TOKYO COLLEGE OF MUSIC SYMPHONIC WIND ENSEMBLE
DESCRIPTION:KEITARO HARADA conductorKEI ITO clarinetFRANK TICHELI Clarinet Concerto \n\n\n\netc.
URL:https://kharada.com/schedule/20240710/
LOCATION:Yokohama Minato Mirai Hall 横浜みなとみらいホール\, Yokohama\, Kanagawa\, Japan
ATTACH;FMTTYPE=image/png:https://kharada.com/wp-content/uploads/2024/04/20240710-Tokyo-College-of-Music-e1712110478198.png
END:VEVENT
BEGIN:VEVENT
DTSTART;TZID=UTC:20240711T000000
DTEND;TZID=UTC:20240711T235959
DTSTAMP:20260419T184007
CREATED:20240403T021734Z
LAST-MODIFIED:20240403T021757Z
UID:1126-1720656000-1720742399@kharada.com
SUMMARY:TOKYO COLLEGE OF MUSIC SYMPHONIC WIND ENSEMBLE
DESCRIPTION:KEITARO HARADA conductorKEI ITO clarinetFRANK TICHELI Clarinet Concerto
URL:https://kharada.com/schedule/20240711/
LOCATION:Tokyo Metropolitan Theatre 東京芸術劇場\, Tokyo\, Japan
ATTACH;FMTTYPE=image/png:https://kharada.com/wp-content/uploads/2024/04/20240710-Tokyo-College-of-Music-e1712110478198.png
END:VEVENT
BEGIN:VEVENT
DTSTART;TZID=UTC:20240714T000000
DTEND;TZID=UTC:20240714T235959
DTSTAMP:20260419T184007
CREATED:20240312T151527Z
LAST-MODIFIED:20240312T151600Z
UID:1096-1720915200-1721001599@kharada.com
SUMMARY:CITY OF KYOTO SYMPHONY ORCHESTRA
DESCRIPTION:VERDI Requiem \n\n\n\n \n\n\n\n原田慶太楼＆京響 ヴェルディ「レクイエム」日時：2024 年 7月 14日（日） \n\n\n\n14：00 開演(13：00 開場) \n\n\n\n会場: 京都コンサートホール 大ホール
URL:https://kharada.com/schedule/20250714/
LOCATION:Kyoto Concert Hall 京都コンサートホール\, Kyoto\, Japan
ATTACH;FMTTYPE=image/png:https://kharada.com/wp-content/uploads/2024/03/2024-07-Kyoto-e1710256257774.png
END:VEVENT
BEGIN:VEVENT
DTSTART;TZID=UTC:20240717T000000
DTEND;TZID=UTC:20240717T235959
DTSTAMP:20260419T184007
CREATED:20240425T125322Z
LAST-MODIFIED:20240702T034046Z
UID:1175-1721174400-1721260799@kharada.com
SUMMARY:PACIFIC PHILHARMONIA TOKYO
DESCRIPTION:公演情報​交響ラップクラシックとラップが挑む未知の領域 \n\n\n\nOrchestra Remix: Classic Meets Hip-Hop \n\n\n\n日時 \n\n\n\n​ \n\n\n\n2024年7月17日（水） \n\n\n\n19:00開演（18:15開場） \n\n\n\nプログラム \n\n\n\n​菊地成孔×林光／映画『秋津温泉』より「ラストシーン・新子の死」志人×ベートーヴェン／交響曲第7番 イ長調 作品92 より 第2楽章 \n\n\n\n混ぜるな、危険（なのか？） \n\n\n\nラッパーの感性が、クラシック音楽から生きた”言葉”を生み出す現場にGO！！！ \n\n\n\n言葉を持たないクラシック音楽が、時代のセンスに従って、ラッパーたちの言葉から、新たな響きを獲得する、刺激的な音楽の現場が、『交響ラップ』です。 \n\n\n\n​ \n\n\n\n1970年代にニューヨークのブロンクス地区のストリートで発生した独自の音楽ジャンルであるヒップホップは、ダンス、ファッション、そして音楽産業の形態自体にも大きな影響を及ぼし、今や全世界を巻き込む大衆音楽の一大ジャンルとなりました。 \n\n\n\nその中心的存在は、ラッパーたち。彼らはトラック（後ろで鳴っている音楽）に乗せてライムという「詩」を表現していきます。つまり、音楽に合わせた「詩の朗唱」とも言え、その内容は詩作と同様、社会や個人の内面を表現。ちなみに、韻を踏むというスタイルがあるのは、どちらも同じ。 \n\n\n\n『交響ラップ』は、その名の通り「クラシックの楽曲そのままの生演奏がバックトラックとなり、ラッパーが表現する」という画期的なコンサートです。 \n\n\n\nクラシックのアーカイヴの中から曲が選び出され、曲の音響はもとより、作曲者の意図、時代性などをインプットした上でラッパーたちは、現代と切り結ぶ刺激的な「ライム／歌詞」をフロー。ベートーヴェンはシラーの詩を交響曲第九番の最終楽章に取り入り、ドビュッシーはマラルメの詩をモチーフに多くの曲を書いたことの、逆提案、とも言えるのです。 \n\n\n\nオペラ歌手がオーケストラをバックに歌うソロコンサートの歌唱部分が、ラップにすげ変わったようなスタイルを想像してみてください。ライム（詩）の世界観によっては、モノオペラのような表現が成立していくことでしょう。世界的に活躍し、オペラに定評がある指揮者の原田慶太楼が、そのタクトで二つのジャンルを切り結んでいきます。 \n\n\n\n​
URL:https://kharada.com/schedule/240717/
LOCATION:Suntory Hall サントリーホール\, Tokyo\, Japan
ATTACH;FMTTYPE=image/jpeg:https://kharada.com/wp-content/uploads/2024/07/240717-PPT-Rap-e1719891591544.jpg
END:VEVENT
BEGIN:VEVENT
DTSTART;TZID=UTC:20240722T000000
DTEND;TZID=UTC:20240722T235959
DTSTAMP:20260419T184007
CREATED:20240427T145559Z
LAST-MODIFIED:20240612T122056Z
UID:1191-1721606400-1721692799@kharada.com
SUMMARY:SENZOKU GAKUEN ORCHESTRA
DESCRIPTION:MUSSORGSKY : Pictures at an ExhibitionMAHLER : Symphony No. 1管弦楽団第86回定期演奏会【出演】指揮　原田慶太楼　　演奏　洗足学園音楽大学　管弦楽団プログラムM.ムソルグスキー(M.ラヴェル編)/組曲｢展覧会の絵｣G.マーラー/交響曲第⼀番｢巨⼈｣
URL:https://kharada.com/schedule/2450722/
LOCATION:Maeda Hall 前田ホール\, Kanagawa\, Kawasaki\, Japan
ATTACH;FMTTYPE=image/png:https://kharada.com/wp-content/uploads/2024/06/2407-SENZOKU-e1718194706529.png
END:VEVENT
BEGIN:VEVENT
DTSTART;TZID=UTC:20240730T000000
DTEND;TZID=UTC:20240730T235959
DTSTAMP:20260419T184007
CREATED:20240427T150806Z
LAST-MODIFIED:20240615T173535Z
UID:1194-1722297600-1722383999@kharada.com
SUMMARY:ROYAL BANGKOK SYMPHONY ORCHESTRA & TOKYO SYMPHONY ORCHESTRA
DESCRIPTION:Special collaboration concert of Tokyo Symphony Orchestra and Royal Bangkok Symphony Orchestra \n\n\n\n \n\n\n\nMAYUKO KAMIO violin \n\n\n\n \n\n\n\nProgrammeJ.Strauss II:Operetta“Die Fledermaus” OvertureWaxman: Carmen FantasySarasate: Zigeunerweisen \n\n\n\nShostakovich: Festive OvertureTchaikovsky: Fantasy Overture Romeo and JulietGinastera: Ballet Suite “Estansia”
URL:https://kharada.com/schedule/240730/
LOCATION:King’s College International School Bangkok\, 727 Ratchadaphisek Rd\, Bang Phong Phang\, Yan Nawa\, Bangkok\, 10120\, Thailand
ATTACH;FMTTYPE=image/jpeg:https://kharada.com/wp-content/uploads/2024/06/2408-TSO-RBSO-e1718472717282.jpg
END:VEVENT
END:VCALENDAR