BEGIN:VCALENDAR
VERSION:2.0
PRODID:-//KEITARO HARADA - ECPv6.15.20//NONSGML v1.0//EN
CALSCALE:GREGORIAN
METHOD:PUBLISH
X-WR-CALNAME:KEITARO HARADA
X-ORIGINAL-URL:https://kharada.com
X-WR-CALDESC:Events for KEITARO HARADA
REFRESH-INTERVAL;VALUE=DURATION:PT1H
X-Robots-Tag:noindex
X-PUBLISHED-TTL:PT1H
BEGIN:VTIMEZONE
TZID:UTC
BEGIN:STANDARD
TZOFFSETFROM:+0000
TZOFFSETTO:+0000
TZNAME:UTC
DTSTART:20230101T000000
END:STANDARD
END:VTIMEZONE
BEGIN:VEVENT
DTSTART;TZID=UTC:20240907T000000
DTEND;TZID=UTC:20240907T235959
DTSTAMP:20260419T153636
CREATED:20240427T152103Z
LAST-MODIFIED:20240427T152104Z
UID:1200-1725667200-1725753599@kharada.com
SUMMARY:GUNMA SYMPHONY ORCHESREA
DESCRIPTION:MEGHAN PICERNO sopranoTAKAOKI ONISHI baritoneGTシンフォニック・コンサート vol.3　BROADWAY SHOW \n\n\n\n指揮 原田慶太楼ソプラノ メーガン・ピチェルノバリトン 大西宇宙
URL:https://kharada.com/schedule/240907/
LOCATION:Takasaki City Theatre (高崎芸術劇場)\, Gunma\, Japan
ATTACH;FMTTYPE=image/png:https://kharada.com/wp-content/uploads/2024/04/240907-Gunma-e1714231233823.png
END:VEVENT
BEGIN:VEVENT
DTSTART;TZID=UTC:20240913T000000
DTEND;TZID=UTC:20240913T235959
DTSTAMP:20260419T153636
CREATED:20240427T152830Z
LAST-MODIFIED:20240827T224216Z
UID:1203-1726185600-1726271999@kharada.com
SUMMARY:JAPAN PHILHARMONIC ORCHESTRA
DESCRIPTION:JENNIFER HIGDON Fanfare RitmicoMOZART Violin Concerto No. 4SHOSTAKOVICH Symphony No. 5AYANA TSUJI violin第145回さいたま定期演奏会 \n\n\n\n2024年9月13日 (金)19:00 開演( 18:00 開場 )ソニックシティ指揮：原田慶太楼ヴァイオリン：辻彩奈 \n\n\n\nジェニファー・ヒグドン：ファンファーレ・リトミコモーツァルト：ヴァイオリン協奏曲第4番 ニ長調 K. 218ショスタコーヴィチ：交響曲第5番《革命》ニ短調 op.47
URL:https://kharada.com/schedule/240913/
LOCATION:Sonic City ソニックシティ\, 〒330-0854 Saitama\, Omiya Ward\, Sakuragicho\, 1 Chome−７−5
ATTACH;FMTTYPE=image/jpeg:https://kharada.com/wp-content/uploads/2024/04/240913-scaled.jpg
END:VEVENT
BEGIN:VEVENT
DTSTART;TZID=UTC:20240914T000000
DTEND;TZID=UTC:20240914T235959
DTSTAMP:20260419T153636
CREATED:20240530T103335Z
LAST-MODIFIED:20240827T224213Z
UID:1306-1726272000-1726358399@kharada.com
SUMMARY:JAPAN PHILHARMONIC ORCHESTRA
DESCRIPTION:JENNIFER HIGDON Fanfare RitmicoMOZART Violin Concerto No. 4SHOSTAKOVICH Symphony No. 5RINO YOSHIMOTO violin \n\n\n\n \n\n\n\n2024年9月14日 (土)15:00 開演( 14:15 開場 )相模女子大学グリーンホール指揮：原田慶太楼ヴァイオリン：吉本梨乃＊ \n\n\n\nヒグドン：ファンファーレ・リトミコ［日本初演］モーツァルト：ヴァイオリン協奏曲第4番《軍隊》ニ長調 K.218＊ショスタコーヴィチ：交響曲第5番《革命》ニ短調 op.47
URL:https://kharada.com/schedule/240914/
LOCATION:Sagami Women’s University Green Hall 相模女子大学グリーンホール\, 4 Chome-4-1 Sagamiono\, Minami Ward\, Sagamihara\, Kanagawa\, 252-0303\, Japan
ATTACH;FMTTYPE=image/png:https://kharada.com/wp-content/uploads/2024/05/240914.png
END:VEVENT
BEGIN:VEVENT
DTSTART;TZID=UTC:20240915T000000
DTEND;TZID=UTC:20240915T235959
DTSTAMP:20260419T153636
CREATED:20240427T153113Z
LAST-MODIFIED:20240628T152012Z
UID:1209-1726358400-1726444799@kharada.com
SUMMARY:JAPAN PHILHARMONIC ORCHESTRA
DESCRIPTION:JENNIFER HIGDON Fanfare RitmicoMOZART Violin Concerto No. 4SHOSTAKOVICH Symphony No. 5AYANA TSUJI violin第406回名曲コンサート \n\n\n\n2024年9月13日 (金)19:00 開演( 18:00 開場 )ソニックシティ指揮：原田慶太楼ヴァイオリン：辻彩奈 \n\n\n\nジェニファー・ヒグドン：ファンファーレ・リトミコモーツァルト：ヴァイオリン協奏曲第4番 ニ長調 K. 218ショスタコーヴィチ：交響曲第5番《革命》ニ短調 op.47
URL:https://kharada.com/schedule/240915/
LOCATION:Suntory Hall サントリーホール\, Tokyo\, Japan
ATTACH;FMTTYPE=image/jpeg:https://kharada.com/wp-content/uploads/2024/06/2409-Japan-Phil-e1719587935583.jpg
END:VEVENT
BEGIN:VEVENT
DTSTART;TZID=UTC:20240921T000000
DTEND;TZID=UTC:20240921T235959
DTSTAMP:20260419T153636
CREATED:20240403T034946Z
LAST-MODIFIED:20240403T050219Z
UID:1142-1726876800-1726963199@kharada.com
SUMMARY:SAVANNAH PHILHARMONIC
DESCRIPTION:DAVID FRAY piano \n\n\n\nPROKOFIEV Classical SymphonyMOZART Piano Concerto No. 21 in C\, K.467\, “Elvira Madigan”ERIC JONES (new work | Savannah Philharmonic commission)MOZART Symphony No. 35 in D\, K.385\, “Haffner”
URL:https://kharada.com/schedule/240921/
LOCATION:Lucas Theatre For the Arts\, 32 Abercorn St\, Savannah\, GA\, 31401\, United States
ATTACH;FMTTYPE=image/jpeg:https://kharada.com/wp-content/uploads/2024/04/4916a1f1_David-Fray-BW-High-Res-1-e1712116150850.jpeg
END:VEVENT
END:VCALENDAR